BEGIN:VCALENDAR
VERSION:2.0
PRODID:-//Ateneo Madrid - ECPv6.15.15//NONSGML v1.0//EN
CALSCALE:GREGORIAN
METHOD:PUBLISH
X-ORIGINAL-URL:https://ateneodemadrid.com
X-WR-CALDESC:Eventos para Ateneo Madrid
REFRESH-INTERVAL;VALUE=DURATION:PT1H
X-Robots-Tag:noindex
X-PUBLISHED-TTL:PT1H
BEGIN:VTIMEZONE
TZID:Europe/Madrid
BEGIN:DAYLIGHT
TZOFFSETFROM:+0100
TZOFFSETTO:+0200
TZNAME:CEST
DTSTART:20220327T010000
END:DAYLIGHT
BEGIN:STANDARD
TZOFFSETFROM:+0200
TZOFFSETTO:+0100
TZNAME:CET
DTSTART:20221030T010000
END:STANDARD
BEGIN:DAYLIGHT
TZOFFSETFROM:+0100
TZOFFSETTO:+0200
TZNAME:CEST
DTSTART:20230326T010000
END:DAYLIGHT
BEGIN:STANDARD
TZOFFSETFROM:+0200
TZOFFSETTO:+0100
TZNAME:CET
DTSTART:20231029T010000
END:STANDARD
BEGIN:DAYLIGHT
TZOFFSETFROM:+0100
TZOFFSETTO:+0200
TZNAME:CEST
DTSTART:20240331T010000
END:DAYLIGHT
BEGIN:STANDARD
TZOFFSETFROM:+0200
TZOFFSETTO:+0100
TZNAME:CET
DTSTART:20241027T010000
END:STANDARD
END:VTIMEZONE
BEGIN:VEVENT
DTSTART;TZID=Europe/Madrid:20230626T193000
DTEND;TZID=Europe/Madrid:20230626T193000
DTSTAMP:20260420T020628
CREATED:20230609T140906Z
LAST-MODIFIED:20230621T130907Z
UID:22980-1687807800-1687807800@ateneodemadrid.com
SUMMARY:Presentación del libro Punto de encuentro. Prontuario de política para ciudadanos a punto de renunciar
DESCRIPTION:Secciones de Pensamiento Marginal y de Ciencias Jurídicas y Políticas. Autor: José Villazón\, licenciado en Farmacia y Pedro Vallín\, periodista. Ramón y Cajal. 19:30h. \n\n\n\nSinopsis de PUNTO DE ENCUENTRO \n\n\n\nEste tratado es un prontuario de recuperación y de regeneración de la ilusión de la ciudadanía «normal»\, que ve cómo las estructuras básicas de su país se alejan\, cada vez más\, de sus inquietudes y\, sobre todo\, de sus necesidades\, golpeada por las sucesivas y continuas crisis (socioeconómicas\, energéticas\, climáticas\, sanitarias\, etc.)\, encajando tantos golpes como puede soportar su maltrecha moral y que camina sonada ante un futuro incierto\, lleno de radicalismos\, que se dibuja con unos lápices que no maneja en absoluto. El autor no pretende solucionar nada\, no desea otra cosa que\, de forma esquemática\, incitar al lector a que valore todo lo que hemos conseguido juntos\, como país\, como nación\, en los últimos años. Se trata de un modesto\, pero imprescindible\, botiquín de alivio rápido de una herida\, todavía superficial\, que amenaza con hacerse más profunda poco a poco hasta dañar órganos vitales. La atonía de la ciudadanía española y la consecuente desafección democrática\, empiezan a ser preocupantes. En este prontuario el lector encontrará palabras que pueden causar desasosiego: cansancio\, renuncia\, desapego\, radicalización\, desprecio\, populismo\, violencia\, etc.; pero la visión final del autor es de desafío positivo\, de encarar con optimismo el reto que supone romper esta desconexión con los supuestos líderes y las instituciones\, de limitar los radicalismos y de comprender que somos mejores de lo que creemos y que\, juntos\, seremos capaces de afrontar los desafiantes retos presentes y futuros. (Del Prólogo de Joaquín Goyache\, Excmo. Rector de la Universidad Complutense de Madrid).
URL:https://ateneodemadrid.com/evento/presentacion-del-libro-punto-de-ecuentro-prontuario-de-politica-para-ciudadanos-a-punto-de-renunciar/
CATEGORIES:Presentación del libro
ATTACH;FMTTYPE=image/jpeg:https://ateneodemadrid.com/wp-content/uploads/2023/06/26-6-2023-Pensamiento-Marginal-1.jpg
END:VEVENT
BEGIN:VEVENT
DTSTART;TZID=Europe/Madrid:20230626T193000
DTEND;TZID=Europe/Madrid:20230626T193000
DTSTAMP:20260420T020628
CREATED:20230525T090047Z
LAST-MODIFIED:20230615T150731Z
UID:22430-1687807800-1687807800@ateneodemadrid.com
SUMMARY:Presentación del libro Yo fui santa
DESCRIPTION:Juan Luis Cano\, autor del libro en conversación con Nativel Preciado y Manuel Vilas.
URL:https://ateneodemadrid.com/evento/presentacion-del-libro-yo-fui-santa/
CATEGORIES:Presentación del libro
ATTACH;FMTTYPE=image/jpeg:https://ateneodemadrid.com/wp-content/uploads/2023/05/26-6-2023-JL-CAno-1.jpg
END:VEVENT
BEGIN:VEVENT
DTSTART;TZID=Europe/Madrid:20230626T190000
DTEND;TZID=Europe/Madrid:20230626T190000
DTSTAMP:20260420T020628
CREATED:20230601T081201Z
LAST-MODIFIED:20230612T151632Z
UID:22730-1687806000-1687806000@ateneodemadrid.com
SUMMARY:Agustín de Argüelles y la abolición del comercio de esclavos del Imperio español
DESCRIPTION:Agrupación Agustín Argüelles. Presenta y modera: José Antonio García Regueiro\, letrado del Tribunal de Cuentas. Intervienen: Jesús Sanjurjo\, Doctor. Universidad de Cambridge. Sala Úbeda. 19h.
URL:https://ateneodemadrid.com/evento/agustin-de-arguelles/
CATEGORIES:Presentación del libro
ATTACH;FMTTYPE=image/jpeg:https://ateneodemadrid.com/wp-content/uploads/2023/06/26-6-2023-Arguelles.jpg
END:VEVENT
BEGIN:VEVENT
DTSTART;TZID=Europe/Madrid:20230621T193000
DTEND;TZID=Europe/Madrid:20230621T193000
DTSTAMP:20260420T020628
CREATED:20230608T080458Z
LAST-MODIFIED:20230612T112250Z
UID:22905-1687375800-1687375800@ateneodemadrid.com
SUMMARY:Presentación libro y documental BAILAMUNDOS
DESCRIPTION:Autor: Julio Velasco Bermúdez de Castro. Cátedra Mayor. 19:30h. Actuación Sound System: Emeterians\, Juni Ramone & Dani Salorio\, Bobby Campbell\, Carlos Bros\, Janfry Gamboa. Segunda parte 20:30h.: Baile y gastronomía exótica en la Cantina del Ateneo. Dress code: Como le gustaría a tu madre que fueras.
URL:https://ateneodemadrid.com/evento/presentacion-libro-y-documental-bailamundos/
CATEGORIES:Presentación del libro
ATTACH;FMTTYPE=image/jpeg:https://ateneodemadrid.com/wp-content/uploads/2023/06/21-6-2023-Bailamundos-1.jpg
END:VEVENT
BEGIN:VEVENT
DTSTART;TZID=Europe/Madrid:20230619T193000
DTEND;TZID=Europe/Madrid:20230619T193000
DTSTAMP:20260420T020628
CREATED:20230524T152222Z
LAST-MODIFIED:20230524T152222Z
UID:22384-1687203000-1687203000@ateneodemadrid.com
SUMMARY:Presentación del libro La mirada escondida
DESCRIPTION:Intervienen: Miguel Pedrero\, autor; Juan Antonio Tirado\, periodista y escritor; Cristina Higueras\, actriz y escritora. Sala Ramón y Cajal. 19:30h.
URL:https://ateneodemadrid.com/evento/presentacion-del-libro-la-mirada-escondida/
CATEGORIES:Presentación del libro
ATTACH;FMTTYPE=image/jpeg:https://ateneodemadrid.com/wp-content/uploads/2023/05/19-6-2023-La-mirada-escondida.jpg
END:VEVENT
BEGIN:VEVENT
DTSTART;TZID=Europe/Madrid:20230619T190000
DTEND;TZID=Europe/Madrid:20230619T190000
DTSTAMP:20260420T020628
CREATED:20230609T105152Z
LAST-MODIFIED:20230616T125027Z
UID:22962-1687201200-1687201200@ateneodemadrid.com
SUMMARY:Presentación del libro En tiempos extraños. Doce apuntes contra la decepción política
DESCRIPTION:De Raimon Obiols. Intervienen.Máriam Martínez-Bascuñá\, Andrés Gil\, Raimon Obiols. Cierra el acto Miquel Iceta\, ministro de Cultura. Biblioteca. 19h.
URL:https://ateneodemadrid.com/evento/presentacion-del-libro-en-tiempos-extranos-doce-apuntes-contra-la-decepcion-politica/
CATEGORIES:Presentación de libro,Presentación del libro
ATTACH;FMTTYPE=image/jpeg:https://ateneodemadrid.com/wp-content/uploads/2023/06/19-6-2023-En-tiempos-extranos-.jpg
END:VEVENT
BEGIN:VEVENT
DTSTART;TZID=Europe/Madrid:20230619T190000
DTEND;TZID=Europe/Madrid:20230619T190000
DTSTAMP:20260420T020628
CREATED:20230525T150414Z
LAST-MODIFIED:20230614T111928Z
UID:22466-1687201200-1687201200@ateneodemadrid.com
SUMMARY:Presidio\, soldados del Rey
DESCRIPTION:Interviene: Jorge Luis García Ruiz\, doctor en Estudios del Mundo Antiguo. Máster en Arqueología. Investigador histórico\, especialista en la Historia española en Norteamérica\, Misiones y Presidios. Presenta: Francisco Moreno del Collado. Sala Larra. 19h.
URL:https://ateneodemadrid.com/evento/presidio-soldados-del-rey/
CATEGORIES:Presentación del libro
ATTACH;FMTTYPE=image/jpeg:https://ateneodemadrid.com/wp-content/uploads/2023/05/19-6-2023-2.jpg
END:VEVENT
BEGIN:VEVENT
DTSTART;TZID=Europe/Madrid:20230616T190000
DTEND;TZID=Europe/Madrid:20230616T190000
DTSTAMP:20260420T020628
CREATED:20230609T095433Z
LAST-MODIFIED:20230609T095434Z
UID:22953-1686942000-1686942000@ateneodemadrid.com
SUMMARY:Presentación del libro Operación jaque Mate
DESCRIPTION:Intervienen: Ernesto Ekaizer y presentador. Presenta: Salvador Viada\, fiscal de la Sala Penal del Tribunal Supremo\, Pedro Crespo\, fiscal jefe del Tribunal Constitucional\, Carlos Ruiz de Alegría\, teniente fiscal del Tribunal Superior de Justicia de Madrid. Modera: el autor\, Ernesto Ekaizer. Biblioteca. 19h.
URL:https://ateneodemadrid.com/evento/presentacion-del-libro-operacion-jaque-mate/
CATEGORIES:Presentación del libro
ATTACH;FMTTYPE=image/jpeg:https://ateneodemadrid.com/wp-content/uploads/2023/06/2023-06-CARTELES_ATENEO_Pagina_03.jpg
END:VEVENT
BEGIN:VEVENT
DTSTART;TZID=Europe/Madrid:20230615T180000
DTEND;TZID=Europe/Madrid:20230615T180000
DTSTAMP:20260420T020628
CREATED:20230609T102853Z
LAST-MODIFIED:20230614T130212Z
UID:22960-1686852000-1686852000@ateneodemadrid.com
SUMMARY:Presentación del libro La profesión de la salud pública y sus profesionales
DESCRIPTION:Sección Ciencias de la Salud. Intervienen: Rosa Urbanos\, presidenta de SESPAS; José R. Martínez\, director de la Cátedra de Enfermería Familiar y Comunitaria; Fernado G. Benavides\, vocal de Formacion e Investigacion de SESPAS; Pilar Aparicio\, directora General de Salud Pública\, Ministerio de Sanidad. Sala Pérez Galdós. 18h.
URL:https://ateneodemadrid.com/evento/presentacion-del-libro-la-profesion-de-la-salud-publica-y-sus-profesionales/
CATEGORIES:Presentación del libro
ATTACH;FMTTYPE=image/jpeg:https://ateneodemadrid.com/wp-content/uploads/2023/06/15-6-2023-Salud-2.jpg
END:VEVENT
BEGIN:VEVENT
DTSTART;TZID=Europe/Madrid:20230614T183000
DTEND;TZID=Europe/Madrid:20230614T183000
DTSTAMP:20260420T020628
CREATED:20230524T145956Z
LAST-MODIFIED:20230602T113321Z
UID:22355-1686767400-1686767400@ateneodemadrid.com
SUMMARY:Presentación del libro La revolución de la microcirculación
DESCRIPTION:Interviene: Dra. Lola González Capilla\, autora del libro. Acompañada por la música de: Pilar Barral. Sala Úbeda. 18:30h.
URL:https://ateneodemadrid.com/evento/presentacion-del-libro-la-revolucion-de-la-microcirculacion/
CATEGORIES:Presentación del libro
ATTACH;FMTTYPE=image/jpeg:https://ateneodemadrid.com/wp-content/uploads/2023/05/14-6-2023-Microcirculacion-2.jpg
END:VEVENT
BEGIN:VEVENT
DTSTART;TZID=Europe/Madrid:20230613T190000
DTEND;TZID=Europe/Madrid:20230613T190000
DTSTAMP:20260420T020628
CREATED:20230613T095510Z
LAST-MODIFIED:20230613T095615Z
UID:23099-1686682800-1686682800@ateneodemadrid.com
SUMMARY:Presentación del libro Tenemos un corazón para ti
DESCRIPTION:Sección de Ciencias de la Salud. Intervienen: Marta Gubau\, autora; Mariona Visa\, coautora; José A. Nieto Cuartero\, pediatra\, H. Niño Jesus\, Madrid; Josep Sánchez de Toledo\, oncólogo\, ICO\, Barcelona; Belén Estébanez\, coordinadora trasplante Hospital U. La Paz -Madrid. Presenta y modera: Susana Griso\, periodista. Biblioteca. 19h.
URL:https://ateneodemadrid.com/evento/presentacion-del-libro-tenemos-un-corazon-para-ti/
CATEGORIES:Presentación del libro
ATTACH;FMTTYPE=image/jpeg:https://ateneodemadrid.com/wp-content/uploads/2023/06/13-6-2023-Salud.jpg
END:VEVENT
BEGIN:VEVENT
DTSTART;TZID=Europe/Madrid:20230607T190000
DTEND;TZID=Europe/Madrid:20230607T190000
DTSTAMP:20260420T020628
CREATED:20230517T110600Z
LAST-MODIFIED:20230517T110601Z
UID:21969-1686164400-1686164400@ateneodemadrid.com
SUMMARY:Presentación del libro El archipiélago de las estaciones
DESCRIPTION:El autor José Antonio de Ory conversará con el autor Sergio Colina. Sala Larra. 19h.
URL:https://ateneodemadrid.com/evento/presentacion-del-libro-el-archipielago-de-las-estaciones/
CATEGORIES:Presentación del libro
ATTACH;FMTTYPE=image/jpeg:https://ateneodemadrid.com/wp-content/uploads/2023/05/7-6-2023-Archipielago.jpg
END:VEVENT
BEGIN:VEVENT
DTSTART;TZID=Europe/Madrid:20230606T190000
DTEND;TZID=Europe/Madrid:20230606T190000
DTSTAMP:20260420T020628
CREATED:20230524T100412Z
LAST-MODIFIED:20230526T103015Z
UID:22255-1686078000-1686078000@ateneodemadrid.com
SUMMARY:Presentación del libro Nada por lo que pedir perdón
DESCRIPTION:Sección de Mitos\, Religiones y Humanidades. Intervienen: Marcelo Gullo\, autor del libro y de Madrd Patria; Pedro López Arriba y Carlos Mendoza. Preside: Ana Maestro. Presenta: Piedad Aguirre. Sala Larra. 19h.
URL:https://ateneodemadrid.com/evento/presentacion-del-libro-nada-por-lo-que-pedir-perdon/
CATEGORIES:Presentación del libro
ATTACH;FMTTYPE=image/jpeg:https://ateneodemadrid.com/wp-content/uploads/2023/05/6-6-2023-MItos-y-Religiones-1.jpg
END:VEVENT
BEGIN:VEVENT
DTSTART;TZID=Europe/Madrid:20230531T193000
DTEND;TZID=Europe/Madrid:20230531T193000
DTSTAMP:20260420T020628
CREATED:20230504T112921Z
LAST-MODIFIED:20230513T113223Z
UID:21503-1685561400-1685561400@ateneodemadrid.com
SUMMARY:Presentación del libro Mamá soy trans
DESCRIPTION:Intervienen: José Errasti – autor; Marino Pérez – autor; Nagore de Arquer – autor; Amelia Valcárcel – filósofa y catedrática; Roger Domingo\, director editorial Ediciones Deusto. Biblioteca. 3ª planta.
URL:https://ateneodemadrid.com/evento/presentacion-del-libro-mama-soy-trans/
CATEGORIES:Presentación del libro
ATTACH;FMTTYPE=image/jpeg:https://ateneodemadrid.com/wp-content/uploads/2023/05/31-5-2023-libro-trans-2.jpg
END:VEVENT
BEGIN:VEVENT
DTSTART;TZID=Europe/Madrid:20230531T193000
DTEND;TZID=Europe/Madrid:20230531T193000
DTSTAMP:20260420T020628
CREATED:20230425T144747Z
LAST-MODIFIED:20230516T115529Z
UID:21085-1685561400-1685561400@ateneodemadrid.com
SUMMARY:Presentación del libro La Groupie
DESCRIPTION:Interviene: Juan Carlos García\, autor. Presenta: Diego Losada\, periodista\, compositor\, integrante de la banda de rock “DURDEN”. Modera: Ángeles Bravo\, periodista y presentadora TVE. Sala Ramón y Cajal. 19:30h.
URL:https://ateneodemadrid.com/evento/presentacion-del-libro-la-groupie/
CATEGORIES:Presentación del libro
ATTACH;FMTTYPE=image/jpeg:https://ateneodemadrid.com/wp-content/uploads/2023/04/31-5-2023-LA-GROUPIE-1-3.jpg
END:VEVENT
BEGIN:VEVENT
DTSTART;TZID=Europe/Madrid:20230527T130000
DTEND;TZID=Europe/Madrid:20230527T130000
DTSTAMP:20260420T020628
CREATED:20230509T142738Z
LAST-MODIFIED:20230522T083107Z
UID:21713-1685192400-1685192400@ateneodemadrid.com
SUMMARY:Presentación del libro Aquellas locuras Manchegas
DESCRIPTION:Secciones de Farmacia y de Ciencias Históricas. Intervienen: Enrique Lillo e Isabel Sánchez\, autores del libro; José CarlosDelgado Alarcón\, Fernando Magro y Alejandro Rubín. Abre el acto: Daniel Pacheco.
URL:https://ateneodemadrid.com/evento/presentacion-del-libro-aquellas-locuras-manchegas/
CATEGORIES:Presentación del libro
ATTACH;FMTTYPE=image/jpeg:https://ateneodemadrid.com/wp-content/uploads/2023/05/27-5-2023-Farmacia-1.jpg
END:VEVENT
BEGIN:VEVENT
DTSTART;TZID=Europe/Madrid:20230526T193000
DTEND;TZID=Europe/Madrid:20230526T193000
DTSTAMP:20260420T020628
CREATED:20230517T154814Z
LAST-MODIFIED:20230522T140631Z
UID:21978-1685129400-1685129400@ateneodemadrid.com
SUMMARY:Presentación del libro La Justicia nunca duerme
DESCRIPTION:Sección de Ciencias Jurídicas y Politícas. Intervienen: Miguel del castillo del Olmo\, magistrado\, autor del libro; Jesús Villegas Fernández\, magistrado; Verónica Ezcurra Atayde\, letrada de la Administración de Justicia. Sala übeda. 19:30h.
URL:https://ateneodemadrid.com/evento/presentacion-del-libro-la-justicia-nunca-duerme/
CATEGORIES:Presentación del libro
ATTACH;FMTTYPE=image/jpeg:https://ateneodemadrid.com/wp-content/uploads/2023/05/26-5-2023-Justicia-1.jpg
END:VEVENT
BEGIN:VEVENT
DTSTART;TZID=Europe/Madrid:20230526T193000
DTEND;TZID=Europe/Madrid:20230526T193000
DTSTAMP:20260420T020628
CREATED:20230427T152112Z
LAST-MODIFIED:20230509T134131Z
UID:21271-1685129400-1685129400@ateneodemadrid.com
SUMMARY:Presentación del libro La Botica del Quijote
DESCRIPTION:Sección de Farmacia. Abre el acto Daniel Pacheco. Intervienen: Ana López-Casero\, Mariano Aviles\, Rafael Anson y el autor. Sala Ramón y Cajal. 19:30h.
URL:https://ateneodemadrid.com/evento/presentacion-del-libro-la-botica-del-quijote/
CATEGORIES:Presentación del libro
ATTACH;FMTTYPE=image/jpeg:https://ateneodemadrid.com/wp-content/uploads/2023/04/26-5-2023-Farmacia-3.jpg
END:VEVENT
BEGIN:VEVENT
DTSTART;TZID=Europe/Madrid:20230525T180000
DTEND;TZID=Europe/Madrid:20230525T180000
DTSTAMP:20260420T020628
CREATED:20230425T152824Z
LAST-MODIFIED:20230503T141922Z
UID:21091-1685037600-1685037600@ateneodemadrid.com
SUMMARY:El aborto en España. Guía jurídica práctica de la interrupción voluntaria del embarazo de Jose Antonio Bosch
DESCRIPTION:Con ocasión del Día Internacional de la Salud de la Mujeres\, ACAI presenta el libro de Jose Antonio Bosch. Intervienen: Laura Berja\, portavoz de Igualdad del Partido Socialista en el Congreso de los Diputados; Patricia Laurenzo\, Catedrática Derecho Penal Universidad de Málaga. Sala Pérez Galdós. 18h.
URL:https://ateneodemadrid.com/evento/el-aborto-en-espana-guia-juridica-practica-de-la-interrupcion-voluntaria-del-embarazo-de-jose-antonio-bosch/
CATEGORIES:Presentación del libro
ATTACH;FMTTYPE=image/jpeg:https://ateneodemadrid.com/wp-content/uploads/2023/04/25-5-2023-aborto-2.jpg
END:VEVENT
BEGIN:VEVENT
DTSTART;TZID=Europe/Madrid:20230524T190000
DTEND;TZID=Europe/Madrid:20230524T190000
DTSTAMP:20260420T020628
CREATED:20230427T160228Z
LAST-MODIFIED:20230503T080914Z
UID:21277-1684954800-1684954800@ateneodemadrid.com
SUMMARY:Presentación del libro Humanosis
DESCRIPTION:Agrupación Agustín Argüelles y Agrupación Ángel Garma. Intervienen: Jorge Pozo Soriano\, poeta y Sandra Camille Virginie Bruno\, autora del libro y poeta. Presenta: Belén Rico García. Modera: Alfonso Gómez Prieto. Introduce: José Antonio García Regueiro.  Sala Úbeda. 19h.
URL:https://ateneodemadrid.com/evento/presentacion-del-libro-humanosis/
CATEGORIES:Presentación del libro
ATTACH;FMTTYPE=image/jpeg:https://ateneodemadrid.com/wp-content/uploads/2023/04/24-5-2023-Arguelles-1.jpg
END:VEVENT
BEGIN:VEVENT
DTSTART;TZID=Europe/Madrid:20230520T190000
DTEND;TZID=Europe/Madrid:20230520T190000
DTSTAMP:20260420T020628
CREATED:20230509T083710Z
LAST-MODIFIED:20230509T083735Z
UID:21694-1684609200-1684609200@ateneodemadrid.com
SUMMARY:Presentación del libro El Balneario de Santa Águeda. Historia\, anécdotas y curiosidades
DESCRIPTION:Interviene: Juan Pedro Valenzuela Doussinague\, autor del libro. Modera: Antonio Cánovas del Castillo\, sobrino tataranieto del Presidente Cánovas\, que fue asesinado en la galería principal de ese establecimiento. Sala Pérez Galdós. 19h.
URL:https://ateneodemadrid.com/evento/presentacion-del-libro-el-balneario-de-santa-agueda-historia-anecdotas-y-curiosidades/
CATEGORIES:Presentación del libro
ATTACH;FMTTYPE=image/jpeg:https://ateneodemadrid.com/wp-content/uploads/2023/05/20-5-2023-Balneario.jpg
END:VEVENT
BEGIN:VEVENT
DTSTART;TZID=Europe/Madrid:20230518T200000
DTEND;TZID=Europe/Madrid:20230518T200000
DTSTAMP:20260420T020628
CREATED:20230516T101741Z
LAST-MODIFIED:20230516T115231Z
UID:21935-1684440000-1684440000@ateneodemadrid.com
SUMMARY:Presentación del libro Días sin escuela\, de Francisco Umbral
DESCRIPTION:Intervienen: Ángel Antonio Herrera\, periodista y escritor; Jorge Urrutia\, poeta\, profesor y traductor; María España\, presidenta de la Fundación Francisco; Emilio Gancedo\, cooordinador del Instituto Leonés de Cultura y escritor; Jorge Urrutia\, poeta\, profesor y traductor; Pablo López Presa\, diputado de Cultura\, Arte y Patrimonio de la Diputación de León; Emilio Gancedo\, coordinador del Instituto Leonés de Cultura y escritor. Publicado por el Instituto Leonés de Cultura de la Diputación de León. Biblioteca. 20h. Nota de prensa.
URL:https://ateneodemadrid.com/evento/presentacion-del-libro-dias-sin-escuela-de-francisco-umbral/
CATEGORIES:Presentación del libro
ATTACH;FMTTYPE=image/jpeg:https://ateneodemadrid.com/wp-content/uploads/2023/05/18-5-2023-DiputacionLeon-1.jpg
END:VEVENT
BEGIN:VEVENT
DTSTART;TZID=Europe/Madrid:20230518T190000
DTEND;TZID=Europe/Madrid:20230518T190000
DTSTAMP:20260420T020628
CREATED:20230505T095730Z
LAST-MODIFIED:20230508T100543Z
UID:21554-1684436400-1684436400@ateneodemadrid.com
SUMMARY:Presentación del libro Entrevistas con historia
DESCRIPTION:Sección de Pensamiento Marginal. Intervienen: Javier Santamarta\, escritor y politólogo; Javier Velasco Oliaga \, periodista\, escritor y director de la revista digital TodoLiteratura; David Yagüe\, Periodista\, escritor\, redactor y responsable de la sección Última hora de ABC; Francisco Márquez\, director de Ondina Ediciones. Presenta y modera: Pedro López Arriba. Sala Larra. 19h.
URL:https://ateneodemadrid.com/evento/presentacion-del-libro-entrevistas-con-historia/
CATEGORIES:Presentación del libro
ATTACH;FMTTYPE=image/jpeg:https://ateneodemadrid.com/wp-content/uploads/2023/05/18-5-2023-Pensamiento-Marginal-1.jpg
END:VEVENT
BEGIN:VEVENT
DTSTART;TZID=Europe/Madrid:20230517T190000
DTEND;TZID=Europe/Madrid:20230517T190000
DTSTAMP:20260420T020628
CREATED:20230419T135022Z
LAST-MODIFIED:20230419T135023Z
UID:20814-1684350000-1684350000@ateneodemadrid.com
SUMMARY:Presentación del libro Razón y Fantasma
DESCRIPTION:Intervienen: María Amparo García del Moral\, psicoanalista y autora del libro; José Luis Villacañas\, catedrático de Filosofía; Amalia Rodríguez\, profesora de estudios de Traducción y Literatura; Antonio Palao\, profesor de Filosofía. Sala Ramón y Cajal. 19h.
URL:https://ateneodemadrid.com/evento/presentacion-del-libro-razon-y-fantasma/
CATEGORIES:Presentación del libro
ATTACH;FMTTYPE=image/jpeg:https://ateneodemadrid.com/wp-content/uploads/2023/04/17-5-2023-libro.jpg
END:VEVENT
BEGIN:VEVENT
DTSTART;TZID=Europe/Madrid:20230516T193000
DTEND;TZID=Europe/Madrid:20230516T193000
DTSTAMP:20260420T020628
CREATED:20230503T111108Z
LAST-MODIFIED:20230503T140418Z
UID:21418-1684265400-1684265400@ateneodemadrid.com
SUMMARY:Presentación del libro El sol no va en bicicleta
DESCRIPTION:Intervienen: Ana María Cuervo de los Santos\, autora del libro; Alicia Arés y Julio Santiago. Sala Ramón y Cajal. 19:30h.
URL:https://ateneodemadrid.com/evento/presentacion-del-libro-el-sol-no-va-en-bicicleta/
CATEGORIES:Presentación del libro
ATTACH;FMTTYPE=image/jpeg:https://ateneodemadrid.com/wp-content/uploads/2023/05/16-5-2023-libro-1.jpg
END:VEVENT
BEGIN:VEVENT
DTSTART;TZID=Europe/Madrid:20230516T193000
DTEND;TZID=Europe/Madrid:20230516T193000
DTSTAMP:20260420T020628
CREATED:20230428T082322Z
LAST-MODIFIED:20230508T105735Z
UID:21317-1684265400-1684265400@ateneodemadrid.com
SUMMARY:Pensamiento narrativo: principios de story telling
DESCRIPTION:Intervienen: María Amparo García del Moral\, psicoanalista y autora del libro; José Luis Villacañas\, catedrático de Filosofía; Amalia Rodríguez\, profesora de estudios de Traducción y Literatura; Antonio Palao\, profesor de Filosofía. Sala Úbeda. 19:30h.
URL:https://ateneodemadrid.com/evento/pensamiento-narrativo-principios-de-story-telling/
CATEGORIES:Presentación del libro
ATTACH;FMTTYPE=image/jpeg:https://ateneodemadrid.com/wp-content/uploads/2023/04/16-5-2023-Aspen-Institute-1.jpg
END:VEVENT
BEGIN:VEVENT
DTSTART;TZID=Europe/Madrid:20230512T193000
DTEND;TZID=Europe/Madrid:20230512T193000
DTSTAMP:20260420T020628
CREATED:20230426T114952Z
LAST-MODIFIED:20230503T141443Z
UID:21180-1683919800-1683919800@ateneodemadrid.com
SUMMARY:Presentación del libro La vida hace historia (Dónde estamos\, hacia dónde vamos)
DESCRIPTION:Interviene: José Olivero Palomeque\, autor del libro. Presenta: Tomás García Mojonero\, profesor de Filosofía y Editorde Café Montaigne. Editorial: Ediciones Algorfa. Sala Úbeda. 19:30h.
URL:https://ateneodemadrid.com/evento/presentacion-del-libro-la-vida-hace-historia-donde-estamos-hacia-donde-vamos-2/
CATEGORIES:Presentación del libro
ATTACH;FMTTYPE=image/jpeg:https://ateneodemadrid.com/wp-content/uploads/2023/04/12-5-2023-La-vida-hace-historia-1-1.jpg
END:VEVENT
BEGIN:VEVENT
DTSTART;TZID=Europe/Madrid:20230512T190000
DTEND;TZID=Europe/Madrid:20230512T190000
DTSTAMP:20260420T020628
CREATED:20230503T134641Z
LAST-MODIFIED:20230503T135859Z
UID:21424-1683918000-1683918000@ateneodemadrid.com
SUMMARY:Presentación del libro Arraigo
DESCRIPTION:Agrupación Francisco de Goya. Intervienen: Loli López Saldaña\, médico y autora; Alejandro López Cruz\, abogado. Presenta y modera: María Teresa Pedraza Guzmán de Lázaro. Sala Pérez Galdós. 19h.
URL:https://ateneodemadrid.com/evento/presentacion-del-libro-arraigo/
CATEGORIES:Presentación del libro
ATTACH;FMTTYPE=image/jpeg:https://ateneodemadrid.com/wp-content/uploads/2023/05/12-5-2023-Goya-1.jpg
END:VEVENT
BEGIN:VEVENT
DTSTART;TZID=Europe/Madrid:20230511T190000
DTEND;TZID=Europe/Madrid:20230511T190000
DTSTAMP:20260420T020628
CREATED:20230504T102619Z
LAST-MODIFIED:20230504T102620Z
UID:21471-1683831600-1683831600@ateneodemadrid.com
SUMMARY:Presentación del libro  “Me duele España” de Ramón Tamames
DESCRIPTION:Intervienen: Ramón Tamames\, autor del libro; Manuel Pimentel\, presidente de la editorial Almuzara y Emilio de Diego\, historiador. Cátedra Mayor. 19h.
URL:https://ateneodemadrid.com/evento/presentacion-del-libro-me-duele-espana-de-ramon-tamames/
CATEGORIES:Presentación del libro
ATTACH;FMTTYPE=image/jpeg:https://ateneodemadrid.com/wp-content/uploads/2023/05/11-5-2023-Tamames.jpg
END:VEVENT
BEGIN:VEVENT
DTSTART;TZID=Europe/Madrid:20230510T190000
DTEND;TZID=Europe/Madrid:20230510T190000
DTSTAMP:20260420T020628
CREATED:20230426T081656Z
LAST-MODIFIED:20230428T121757Z
UID:21133-1683745200-1683745200@ateneodemadrid.com
SUMMARY:Presentación del libro Las Guerras Carlistas y los Marqueses de Vasldespina
DESCRIPTION:Sección de Pensamiento Marginal y Sección de Ciencia y Cultura Militar. Interviene: Jorge Garris Mozota\, teniente coronel del Ejército y autor del libro. Preside: Pedro López. Presenta: Javier María Pérez-Roldán y Suanzes-Carpegna. Sala Larra. 19h.
URL:https://ateneodemadrid.com/evento/presentacion-del-libro-las-guerras-carlistas-y-los-marqueses-de-vasldespina/
CATEGORIES:Presentación del libro
ATTACH;FMTTYPE=image/jpeg:https://ateneodemadrid.com/wp-content/uploads/2023/04/10-5-2023-Carlistas-1.jpg
END:VEVENT
END:VCALENDAR