BEGIN:VCALENDAR
VERSION:2.0
PRODID:-//Ateneo Madrid - ECPv6.15.15//NONSGML v1.0//EN
CALSCALE:GREGORIAN
METHOD:PUBLISH
X-ORIGINAL-URL:https://ateneodemadrid.com
X-WR-CALDESC:Eventos para Ateneo Madrid
REFRESH-INTERVAL;VALUE=DURATION:PT1H
X-Robots-Tag:noindex
X-PUBLISHED-TTL:PT1H
BEGIN:VTIMEZONE
TZID:Europe/Madrid
BEGIN:DAYLIGHT
TZOFFSETFROM:+0100
TZOFFSETTO:+0200
TZNAME:CEST
DTSTART:20220327T010000
END:DAYLIGHT
BEGIN:STANDARD
TZOFFSETFROM:+0200
TZOFFSETTO:+0100
TZNAME:CET
DTSTART:20221030T010000
END:STANDARD
BEGIN:DAYLIGHT
TZOFFSETFROM:+0100
TZOFFSETTO:+0200
TZNAME:CEST
DTSTART:20230326T010000
END:DAYLIGHT
BEGIN:STANDARD
TZOFFSETFROM:+0200
TZOFFSETTO:+0100
TZNAME:CET
DTSTART:20231029T010000
END:STANDARD
BEGIN:DAYLIGHT
TZOFFSETFROM:+0100
TZOFFSETTO:+0200
TZNAME:CEST
DTSTART:20240331T010000
END:DAYLIGHT
BEGIN:STANDARD
TZOFFSETFROM:+0200
TZOFFSETTO:+0100
TZNAME:CET
DTSTART:20241027T010000
END:STANDARD
END:VTIMEZONE
BEGIN:VEVENT
DTSTART;TZID=Europe/Madrid:20230520T190000
DTEND;TZID=Europe/Madrid:20230520T190000
DTSTAMP:20260420T035310
CREATED:20230509T083710Z
LAST-MODIFIED:20230509T083735Z
UID:21694-1684609200-1684609200@ateneodemadrid.com
SUMMARY:Presentación del libro El Balneario de Santa Águeda. Historia\, anécdotas y curiosidades
DESCRIPTION:Interviene: Juan Pedro Valenzuela Doussinague\, autor del libro. Modera: Antonio Cánovas del Castillo\, sobrino tataranieto del Presidente Cánovas\, que fue asesinado en la galería principal de ese establecimiento. Sala Pérez Galdós. 19h.
URL:https://ateneodemadrid.com/evento/presentacion-del-libro-el-balneario-de-santa-agueda-historia-anecdotas-y-curiosidades/
CATEGORIES:Presentación del libro
ATTACH;FMTTYPE=image/jpeg:https://ateneodemadrid.com/wp-content/uploads/2023/05/20-5-2023-Balneario.jpg
END:VEVENT
BEGIN:VEVENT
DTSTART;TZID=Europe/Madrid:20230518T200000
DTEND;TZID=Europe/Madrid:20230518T200000
DTSTAMP:20260420T035310
CREATED:20230516T101741Z
LAST-MODIFIED:20230516T115231Z
UID:21935-1684440000-1684440000@ateneodemadrid.com
SUMMARY:Presentación del libro Días sin escuela\, de Francisco Umbral
DESCRIPTION:Intervienen: Ángel Antonio Herrera\, periodista y escritor; Jorge Urrutia\, poeta\, profesor y traductor; María España\, presidenta de la Fundación Francisco; Emilio Gancedo\, cooordinador del Instituto Leonés de Cultura y escritor; Jorge Urrutia\, poeta\, profesor y traductor; Pablo López Presa\, diputado de Cultura\, Arte y Patrimonio de la Diputación de León; Emilio Gancedo\, coordinador del Instituto Leonés de Cultura y escritor. Publicado por el Instituto Leonés de Cultura de la Diputación de León. Biblioteca. 20h. Nota de prensa.
URL:https://ateneodemadrid.com/evento/presentacion-del-libro-dias-sin-escuela-de-francisco-umbral/
CATEGORIES:Presentación del libro
ATTACH;FMTTYPE=image/jpeg:https://ateneodemadrid.com/wp-content/uploads/2023/05/18-5-2023-DiputacionLeon-1.jpg
END:VEVENT
BEGIN:VEVENT
DTSTART;TZID=Europe/Madrid:20230518T190000
DTEND;TZID=Europe/Madrid:20230518T190000
DTSTAMP:20260420T035310
CREATED:20230505T095730Z
LAST-MODIFIED:20230508T100543Z
UID:21554-1684436400-1684436400@ateneodemadrid.com
SUMMARY:Presentación del libro Entrevistas con historia
DESCRIPTION:Sección de Pensamiento Marginal. Intervienen: Javier Santamarta\, escritor y politólogo; Javier Velasco Oliaga \, periodista\, escritor y director de la revista digital TodoLiteratura; David Yagüe\, Periodista\, escritor\, redactor y responsable de la sección Última hora de ABC; Francisco Márquez\, director de Ondina Ediciones. Presenta y modera: Pedro López Arriba. Sala Larra. 19h.
URL:https://ateneodemadrid.com/evento/presentacion-del-libro-entrevistas-con-historia/
CATEGORIES:Presentación del libro
ATTACH;FMTTYPE=image/jpeg:https://ateneodemadrid.com/wp-content/uploads/2023/05/18-5-2023-Pensamiento-Marginal-1.jpg
END:VEVENT
BEGIN:VEVENT
DTSTART;TZID=Europe/Madrid:20230517T190000
DTEND;TZID=Europe/Madrid:20230517T190000
DTSTAMP:20260420T035310
CREATED:20230419T135022Z
LAST-MODIFIED:20230419T135023Z
UID:20814-1684350000-1684350000@ateneodemadrid.com
SUMMARY:Presentación del libro Razón y Fantasma
DESCRIPTION:Intervienen: María Amparo García del Moral\, psicoanalista y autora del libro; José Luis Villacañas\, catedrático de Filosofía; Amalia Rodríguez\, profesora de estudios de Traducción y Literatura; Antonio Palao\, profesor de Filosofía. Sala Ramón y Cajal. 19h.
URL:https://ateneodemadrid.com/evento/presentacion-del-libro-razon-y-fantasma/
CATEGORIES:Presentación del libro
ATTACH;FMTTYPE=image/jpeg:https://ateneodemadrid.com/wp-content/uploads/2023/04/17-5-2023-libro.jpg
END:VEVENT
BEGIN:VEVENT
DTSTART;TZID=Europe/Madrid:20230516T193000
DTEND;TZID=Europe/Madrid:20230516T193000
DTSTAMP:20260420T035310
CREATED:20230503T111108Z
LAST-MODIFIED:20230503T140418Z
UID:21418-1684265400-1684265400@ateneodemadrid.com
SUMMARY:Presentación del libro El sol no va en bicicleta
DESCRIPTION:Intervienen: Ana María Cuervo de los Santos\, autora del libro; Alicia Arés y Julio Santiago. Sala Ramón y Cajal. 19:30h.
URL:https://ateneodemadrid.com/evento/presentacion-del-libro-el-sol-no-va-en-bicicleta/
CATEGORIES:Presentación del libro
ATTACH;FMTTYPE=image/jpeg:https://ateneodemadrid.com/wp-content/uploads/2023/05/16-5-2023-libro-1.jpg
END:VEVENT
BEGIN:VEVENT
DTSTART;TZID=Europe/Madrid:20230516T193000
DTEND;TZID=Europe/Madrid:20230516T193000
DTSTAMP:20260420T035310
CREATED:20230428T082322Z
LAST-MODIFIED:20230508T105735Z
UID:21317-1684265400-1684265400@ateneodemadrid.com
SUMMARY:Pensamiento narrativo: principios de story telling
DESCRIPTION:Intervienen: María Amparo García del Moral\, psicoanalista y autora del libro; José Luis Villacañas\, catedrático de Filosofía; Amalia Rodríguez\, profesora de estudios de Traducción y Literatura; Antonio Palao\, profesor de Filosofía. Sala Úbeda. 19:30h.
URL:https://ateneodemadrid.com/evento/pensamiento-narrativo-principios-de-story-telling/
CATEGORIES:Presentación del libro
ATTACH;FMTTYPE=image/jpeg:https://ateneodemadrid.com/wp-content/uploads/2023/04/16-5-2023-Aspen-Institute-1.jpg
END:VEVENT
BEGIN:VEVENT
DTSTART;TZID=Europe/Madrid:20230512T193000
DTEND;TZID=Europe/Madrid:20230512T193000
DTSTAMP:20260420T035310
CREATED:20230426T114952Z
LAST-MODIFIED:20230503T141443Z
UID:21180-1683919800-1683919800@ateneodemadrid.com
SUMMARY:Presentación del libro La vida hace historia (Dónde estamos\, hacia dónde vamos)
DESCRIPTION:Interviene: José Olivero Palomeque\, autor del libro. Presenta: Tomás García Mojonero\, profesor de Filosofía y Editorde Café Montaigne. Editorial: Ediciones Algorfa. Sala Úbeda. 19:30h.
URL:https://ateneodemadrid.com/evento/presentacion-del-libro-la-vida-hace-historia-donde-estamos-hacia-donde-vamos-2/
CATEGORIES:Presentación del libro
ATTACH;FMTTYPE=image/jpeg:https://ateneodemadrid.com/wp-content/uploads/2023/04/12-5-2023-La-vida-hace-historia-1-1.jpg
END:VEVENT
BEGIN:VEVENT
DTSTART;TZID=Europe/Madrid:20230512T190000
DTEND;TZID=Europe/Madrid:20230512T190000
DTSTAMP:20260420T035310
CREATED:20230503T134641Z
LAST-MODIFIED:20230503T135859Z
UID:21424-1683918000-1683918000@ateneodemadrid.com
SUMMARY:Presentación del libro Arraigo
DESCRIPTION:Agrupación Francisco de Goya. Intervienen: Loli López Saldaña\, médico y autora; Alejandro López Cruz\, abogado. Presenta y modera: María Teresa Pedraza Guzmán de Lázaro. Sala Pérez Galdós. 19h.
URL:https://ateneodemadrid.com/evento/presentacion-del-libro-arraigo/
CATEGORIES:Presentación del libro
ATTACH;FMTTYPE=image/jpeg:https://ateneodemadrid.com/wp-content/uploads/2023/05/12-5-2023-Goya-1.jpg
END:VEVENT
BEGIN:VEVENT
DTSTART;TZID=Europe/Madrid:20230511T190000
DTEND;TZID=Europe/Madrid:20230511T190000
DTSTAMP:20260420T035310
CREATED:20230504T102619Z
LAST-MODIFIED:20230504T102620Z
UID:21471-1683831600-1683831600@ateneodemadrid.com
SUMMARY:Presentación del libro  “Me duele España” de Ramón Tamames
DESCRIPTION:Intervienen: Ramón Tamames\, autor del libro; Manuel Pimentel\, presidente de la editorial Almuzara y Emilio de Diego\, historiador. Cátedra Mayor. 19h.
URL:https://ateneodemadrid.com/evento/presentacion-del-libro-me-duele-espana-de-ramon-tamames/
CATEGORIES:Presentación del libro
ATTACH;FMTTYPE=image/jpeg:https://ateneodemadrid.com/wp-content/uploads/2023/05/11-5-2023-Tamames.jpg
END:VEVENT
BEGIN:VEVENT
DTSTART;TZID=Europe/Madrid:20230510T190000
DTEND;TZID=Europe/Madrid:20230510T190000
DTSTAMP:20260420T035310
CREATED:20230426T081656Z
LAST-MODIFIED:20230428T121757Z
UID:21133-1683745200-1683745200@ateneodemadrid.com
SUMMARY:Presentación del libro Las Guerras Carlistas y los Marqueses de Vasldespina
DESCRIPTION:Sección de Pensamiento Marginal y Sección de Ciencia y Cultura Militar. Interviene: Jorge Garris Mozota\, teniente coronel del Ejército y autor del libro. Preside: Pedro López. Presenta: Javier María Pérez-Roldán y Suanzes-Carpegna. Sala Larra. 19h.
URL:https://ateneodemadrid.com/evento/presentacion-del-libro-las-guerras-carlistas-y-los-marqueses-de-vasldespina/
CATEGORIES:Presentación del libro
ATTACH;FMTTYPE=image/jpeg:https://ateneodemadrid.com/wp-content/uploads/2023/04/10-5-2023-Carlistas-1.jpg
END:VEVENT
BEGIN:VEVENT
DTSTART;TZID=Europe/Madrid:20230508T190000
DTEND;TZID=Europe/Madrid:20230508T190000
DTSTAMP:20260420T035310
CREATED:20230424T154326Z
LAST-MODIFIED:20230503T141117Z
UID:21010-1683572400-1683572400@ateneodemadrid.com
SUMMARY:Presentación del libro Legislar contra ley. Análisis de la mal llamada Ley Maestra
DESCRIPTION:Sección de Educación. Intervienen: José Luis Pazos\, autor del libro; Isabel Blanco\, representante de la Asociación Creando Ciudadanía (responsable de la edición del libro); Aurora Ruiz\, autora del prólogo. Presenta y modera:José Carlos Tobalina.
URL:https://ateneodemadrid.com/evento/presentacion-del-libro-legislar-contra-ley-analisis-de-la-mal-llamada-ley-maestra/
CATEGORIES:Presentación del libro
ATTACH;FMTTYPE=image/jpeg:https://ateneodemadrid.com/wp-content/uploads/2023/04/8-5-2023-Educacion-1.jpg
END:VEVENT
BEGIN:VEVENT
DTSTART;TZID=Europe/Madrid:20230505T193000
DTEND;TZID=Europe/Madrid:20230505T193000
DTSTAMP:20260420T035310
CREATED:20230424T150544Z
LAST-MODIFIED:20230424T150545Z
UID:20994-1683315000-1683315000@ateneodemadrid.com
SUMMARY:Presentación del libro Pasiones entre dos mundos
DESCRIPTION:Interviene: Francisco Chacón Marín\, autor del libro. Presenta: Fernando Jiménez. Sala Pérez Galdós. 19:30h.
URL:https://ateneodemadrid.com/evento/presentacion-del-libro-pasiones-entre-dos-mundos/
CATEGORIES:Presentación del libro
ATTACH;FMTTYPE=image/jpeg:https://ateneodemadrid.com/wp-content/uploads/2023/04/5-5-2023-Pasiones-.jpg
END:VEVENT
BEGIN:VEVENT
DTSTART;TZID=Europe/Madrid:20230505T190000
DTEND;TZID=Europe/Madrid:20230505T190000
DTSTAMP:20260420T035310
CREATED:20230420T150833Z
LAST-MODIFIED:20230504T133816Z
UID:20876-1683313200-1683313200@ateneodemadrid.com
SUMMARY:El franquismo contra la masonería femenina
DESCRIPTION:Intervienen: María José Turrión\, autora del libro\, exdirectora del Centro Documental de la Memoria Histórica de Salamanca; Pedro Álvarez Lázaro\, catedrático Historia Universidad de Comillas; Matilde Eiroa\, profesora Universidad  Carlos III de Madrid. Modera: Rosa Martínez\, profesora jubilada de Historia Contemporánea de la UNED. Sala Ramón y Cajal. 19h.
URL:https://ateneodemadrid.com/evento/el-franquismo-contra-la-masoneria-en-espana/
CATEGORIES:Presentación del libro
ATTACH;FMTTYPE=image/jpeg:https://ateneodemadrid.com/wp-content/uploads/2023/04/5-5-2023-Masoneria-2.jpg
END:VEVENT
BEGIN:VEVENT
DTSTART;TZID=Europe/Madrid:20230504T190000
DTEND;TZID=Europe/Madrid:20230504T190000
DTSTAMP:20260420T035310
CREATED:20230424T144742Z
LAST-MODIFIED:20230424T144831Z
UID:20988-1683226800-1683226800@ateneodemadrid.com
SUMMARY:Presentación del libro El último gudari
DESCRIPTION:Sección de Ciencias Históricas. Intervienen: José María Nacarino\, autor; Aránzazu Sumalla\, editora de Penguin Random House; Carlos H. Vázquez\, periodista y guionista. Presenta y modera: Juana Sánchez- Gey. Sala Pérez Galdós. 19h.
URL:https://ateneodemadrid.com/evento/presentacion-del-libro-el-ultimo-gudari/
CATEGORIES:Presentación del libro
ATTACH;FMTTYPE=image/jpeg:https://ateneodemadrid.com/wp-content/uploads/2023/04/4-5-2023-Historicas.jpg
END:VEVENT
BEGIN:VEVENT
DTSTART;TZID=Europe/Madrid:20230503T193000
DTEND;TZID=Europe/Madrid:20230503T193000
DTSTAMP:20260420T035310
CREATED:20230424T151621Z
LAST-MODIFIED:20230424T151622Z
UID:20997-1683142200-1683142200@ateneodemadrid.com
SUMMARY:Presentación del libro. En busca de la democracia
DESCRIPTION:Interviene: Óscar Anchorena Morales\, autor del libro. Sala Larra. 19:30h.
URL:https://ateneodemadrid.com/evento/presentacion-del-libro-en-busca-de-la-democracia/
CATEGORIES:Presentación del libro
ATTACH;FMTTYPE=image/jpeg:https://ateneodemadrid.com/wp-content/uploads/2023/04/3-5-2023-democracia-1.jpg
END:VEVENT
BEGIN:VEVENT
DTSTART;TZID=Europe/Madrid:20230503T193000
DTEND;TZID=Europe/Madrid:20230503T193000
DTSTAMP:20260420T035310
CREATED:20230424T143116Z
LAST-MODIFIED:20230424T144443Z
UID:20973-1683142200-1683142200@ateneodemadrid.com
SUMMARY:Retos de la presidencia española en el Consejo de la UE (Segundo semestre 2023)
DESCRIPTION:Agrupación Europeísta Cuidar el Futuro y el Consejo Federal Español del Movimiento Europeo. Presentación del libro Presidencia española del Consejo de la UE 2023. José Ignacio Salafranca\, presidente de la Fundación Euroamérica; Guiomar Gutiérrez\, Jóvenes Movimiento Europeo. Presenta y modera: Francisco Aldecoa\, presidente del Movimiento Europeo de España. Este debate puede verse posteriormente en: Youtube.com/@cuidar-el-futuro. Sala Ramón y Cajal. 19:30h.
URL:https://ateneodemadrid.com/evento/retos-de-la-presidencia-espanola-en-el-consejo-de-la-ue-segundo-semestre-2023/
CATEGORIES:Presentación del libro
ATTACH;FMTTYPE=image/jpeg:https://ateneodemadrid.com/wp-content/uploads/2023/04/3-5-2023-Europeista.jpg
END:VEVENT
BEGIN:VEVENT
DTSTART;TZID=Europe/Madrid:20230428T193000
DTEND;TZID=Europe/Madrid:20230428T193000
DTSTAMP:20260420T035310
CREATED:20230404T131149Z
LAST-MODIFIED:20230425T110327Z
UID:20278-1682710200-1682710200@ateneodemadrid.com
SUMMARY:Presentación del libro Eduardo Alfonso y su Masonería española en presidio
DESCRIPTION:Entrada libre hasta completar aforo
URL:https://ateneodemadrid.com/evento/presentacion-del-libro-eduardo-alfonso-y-su-masoneria-espanola-en-presidio/
CATEGORIES:Presentación del libro
ATTACH;FMTTYPE=image/jpeg:https://ateneodemadrid.com/wp-content/uploads/2023/04/28-4-2023-libro-masoneria-1.jpg
END:VEVENT
BEGIN:VEVENT
DTSTART;TZID=Europe/Madrid:20230418T190000
DTEND;TZID=Europe/Madrid:20230418T190000
DTSTAMP:20260420T035310
CREATED:20230404T082251Z
LAST-MODIFIED:20230404T084236Z
UID:20234-1681844400-1681844400@ateneodemadrid.com
SUMMARY:Presentación del libro Vejez Activa
DESCRIPTION:Intervienen: Rafael Ansón\, presidente de Honor de la Real Academia de Gastronomía; Padre Ángel García\, presidente de Mensajeros de la Paz; Carmen Posadas\, escritora; Ignacio Buqueras y Bach\, promotor\, coordinador y coautor del libro. Preside: Carlos Mendoza. Salón Ciudad de Úbeda. 19h.
URL:https://ateneodemadrid.com/evento/presentacion-del-libro-vejez-activa/
CATEGORIES:Presentación del libro
ATTACH;FMTTYPE=image/jpeg:https://ateneodemadrid.com/wp-content/uploads/2023/04/18-4-2023-Vejez-activa-1.jpg
END:VEVENT
BEGIN:VEVENT
DTSTART;TZID=Europe/Madrid:20230321T190000
DTEND;TZID=Europe/Madrid:20230321T190000
DTSTAMP:20260420T035310
CREATED:20230228T153948Z
LAST-MODIFIED:20230316T111202Z
UID:18968-1679425200-1679425200@ateneodemadrid.com
SUMMARY:Presentación del libro La herencia templaria y hospitalaria en Segovia
DESCRIPTION:Sección de Mitos\, Religiones y Humanidades. Interviene: José Ignacio López de Silanes\, autor de Geometría Sagrada en el Templo de los Caballeros Templarios. Preside: Carlos Mendoza Bullón. Presenta: Pedro López Arriba. Sala Pérez Galdós. 19h.
URL:https://ateneodemadrid.com/evento/presentacion-del-libro-la-herencia-templaria-y-hospitalaria-en-segovia/
CATEGORIES:Presentación del libro
ATTACH;FMTTYPE=image/jpeg:https://ateneodemadrid.com/wp-content/uploads/2023/02/21-3-2023-Mitos-Religiones-1.jpg
END:VEVENT
BEGIN:VEVENT
DTSTART;TZID=Europe/Madrid:20230318T000000
DTEND;TZID=Europe/Madrid:20230318T120000
DTSTAMP:20260420T035310
CREATED:20230228T155610Z
LAST-MODIFIED:20230302T092245Z
UID:18973-1679097600-1679140800@ateneodemadrid.com
SUMMARY:Presentación del libro De Èriu a Irlanda\, mitos y leyendas
DESCRIPTION:Sección de Mitos\, Religiones y Humanidades. Interviene: Tatiana Guijo Gascueña\, experta en cultura. Presenta:Ana Maestro. Modera: Rubén Prada. Sala Pérez Galdós. 12 h.
URL:https://ateneodemadrid.com/evento/presentacion-del-libro-de-eriu-a-irlanda-mitos-y-leyendas/
CATEGORIES:Presentación del libro
ATTACH;FMTTYPE=image/jpeg:https://ateneodemadrid.com/wp-content/uploads/2023/02/18-3-2023-Mitos-Religiones-1.jpg
END:VEVENT
BEGIN:VEVENT
DTSTART;TZID=Europe/Madrid:20230314T203000
DTEND;TZID=Europe/Madrid:20230314T203000
DTSTAMP:20260420T035310
CREATED:20230228T141410Z
LAST-MODIFIED:20230307T122041Z
UID:18933-1678825800-1678825800@ateneodemadrid.com
SUMMARY:Presentación del libro Psicoanálisis del expresionismo de Oskar Pfister
DESCRIPTION:Sección de Pensamiento Marginal. Intervienen: Luisa Borondo\, psiquiatra y psicoanalista\, presidenta de la Asociación “Oskar Pfister”; Manuel Pérez Cornejo\, catedrático y doctor en Filosofía\, traductor de la obra. Presenta:Carlos Mendoza Bullón. Sala Ramón y Cajal. 20:30h.
URL:https://ateneodemadrid.com/evento/presentacion-del-libro-psicoanalisis-del-expresionismo-de-oskar-pfister/
CATEGORIES:Presentación del libro
ATTACH;FMTTYPE=image/jpeg:https://ateneodemadrid.com/wp-content/uploads/2023/02/14-3-2023-Pensamiento-Marginal-1-scaled.jpg
END:VEVENT
BEGIN:VEVENT
DTSTART;TZID=Europe/Madrid:20230313T190000
DTEND;TZID=Europe/Madrid:20230313T190000
DTSTAMP:20260420T035310
CREATED:20230228T125414Z
LAST-MODIFIED:20230228T125415Z
UID:18913-1678734000-1678734000@ateneodemadrid.com
SUMMARY:Presentación del libro De Coronado a Oñate. Buscando el paso a China
DESCRIPTION:Agrupación de Geografía\, exploración y viajes Alvar Núñez Cabeza de Vaca. Intervienen: José Antonio Crespo-Francés\, autor del libro. Coronel de Infantería (R) y doctor en Artes y Humanidades; Juan Van-Halen\, escritor\, historiador\, periodista y político; Miguel Ángel López de la Asunción\, licenciado en Filología Inglesa. Asesor histórico de la Fundación Blas de Lezo y de la Federación Española de Asociaciones de Historia (FEAH). Presenta: Carlos Fernández-Corugedo. Sala Ramón y Cajal. 19h.
URL:https://ateneodemadrid.com/evento/presentacion-del-libro-de-coronado-a-onate-buscando-el-paso-a-china/
CATEGORIES:Presentación del libro
ATTACH;FMTTYPE=image/jpeg:https://ateneodemadrid.com/wp-content/uploads/2023/02/13-3-2023-libro.jpg
END:VEVENT
BEGIN:VEVENT
DTSTART;TZID=Europe/Madrid:20230307T190000
DTEND;TZID=Europe/Madrid:20230307T190000
DTSTAMP:20260420T035310
CREATED:20230227T150304Z
LAST-MODIFIED:20230227T150304Z
UID:18865-1678215600-1678215600@ateneodemadrid.com
SUMMARY:Presentación del libro Etudios sobre literatura africana y afroamericana en español
DESCRIPTION:Sección Africanista. Interviene: Gloria Nistal Rosique\, autora del libro. Presentan: Rosemary Clark\, profesora de Cambridge University\, traductora y especialista en literaturas africanas. Barbara Fraticelli\, directora del Grupo de Investigación Voces Africanas (GIVA) de la UCM. Modera: Basilio Rodríguez Cañada. Sala Ramón y Cajal. 19h.
URL:https://ateneodemadrid.com/evento/presentacion-del-libro-etudios-sobre-literatura-africana-y-afroamericana-en-espanol/
CATEGORIES:Presentación del libro
ATTACH;FMTTYPE=image/jpeg:https://ateneodemadrid.com/wp-content/uploads/2023/02/7-3-2022-Africanista.jpg
END:VEVENT
BEGIN:VEVENT
DTSTART;TZID=Europe/Madrid:20230227T200000
DTEND;TZID=Europe/Madrid:20230227T200000
DTSTAMP:20260420T035310
CREATED:20230126T135144Z
LAST-MODIFIED:20230223T160245Z
UID:18087-1677528000-1677528000@ateneodemadrid.com
SUMMARY:Encuentro con Joaquín Pérez Azaústre. A propósito de la novela "La larga noche"\, Premio Jaén de Novela
DESCRIPTION:Sección de Literatura. Intervienen: Ignacio Elguero\, poeta\, periodista y escritor. Director de Educación de la Diversidad Cultural e Internacional de RTVE; Ángel Antonio Herrera\, poeta\, periodista y escritor; Raquel Lanseros\, poeta y profesora de la Universidad de Zaragoza; Joaquín Pérez Azaústre\, poeta\, novelista y coordinador de Los jueves de la Cacharrería. Preside y modera: José Manuel Lucía Megías. Sala de La Cacharrería. 20h.
URL:https://ateneodemadrid.com/evento/presentacion-de-la-novela-la-larga-noche-de-joaquin-perez-azaustre/
CATEGORIES:Presentación del libro
ATTACH;FMTTYPE=image/jpeg:https://ateneodemadrid.com/wp-content/uploads/2023/01/27-2-2023-Azaustre-1-4.jpg
END:VEVENT
BEGIN:VEVENT
DTSTART;TZID=Europe/Madrid:20230227T190000
DTEND;TZID=Europe/Madrid:20230227T190000
DTSTAMP:20260420T035310
CREATED:20230126T134843Z
LAST-MODIFIED:20230223T150739Z
UID:18083-1677524400-1677524400@ateneodemadrid.com
SUMMARY:La responsabilidad penal de las personas jurídicas en España (Compliance&Ethics)
DESCRIPTION:Sección de Ciencias Jurídicas y la  Agrupación Justicia y Cultura. Intervienen: Antonio del Moral\, magistrado de la Sala II del Tribunal Supremo; Sylvia Enseñat\, presidenta de Ascom; y Francisco Bonatti\, co-fundador de Bonatti Penal & Compliance. Presenta: Pedro López Arriba Coordina: Sara Cantó. Sala Ramón y Cajal. 19h.
URL:https://ateneodemadrid.com/evento/presentacion-del-libro-la-responsabilidad-penal-de-la-personas-juridicas-en-espana-complianceethics/
CATEGORIES:Presentación del libro
ATTACH;FMTTYPE=image/jpeg:https://ateneodemadrid.com/wp-content/uploads/2023/01/27-2-2023-Juridicas-1.jpg
END:VEVENT
BEGIN:VEVENT
DTSTART;TZID=Europe/Madrid:20230223T190000
DTEND;TZID=Europe/Madrid:20230223T190000
DTSTAMP:20260420T035310
CREATED:20230206T093157Z
LAST-MODIFIED:20230206T093158Z
UID:18488-1677178800-1677178800@ateneodemadrid.com
SUMMARY:Presentación del libro "¿Quien Guarda a los Guardianes? El Control Judicial de la Administración Pública norteamericana"
DESCRIPTION:Ponentes: Javier Moscoso\, presidente de Aranzadi; Tomás Quadra\, catedrático de Derecho Administrativo\, UC3M; Luciano Parejo\, catedrático de Derecho Administrativo\, UC; Maria Emilia Casas\, catedrática de Derecho del Trabajo y Seguridad Social\, UCM; Antonio Estella\, profesor titular de Derecho Administrativo\, catedrático Jean Monnet «ad personam» de derecho de la gobernanza económica europea\, UC3M\, y autor de la traducción. Sala La Cacharrería. \n\n\n\nEs una traducción al español del clásico de Martin M. Shapiro\, «Who Guards the Guardians?»\, un libro verdaderamente pionero\, en su momento\, y también actualmente\, en materia de control judicial y que ya está agotado: la única versión con la que se contará\, a partir de ahora\, será con la versión española.
URL:https://ateneodemadrid.com/evento/presentacion-del-libro-quien-guarda-a-los-guardianes-el-control-judicial-de-la-administracion-publica-norteamericana/
CATEGORIES:Presentación del libro
ATTACH;FMTTYPE=image/jpeg:https://ateneodemadrid.com/wp-content/uploads/2023/02/23-2-2023-Antonio-Estella.jpg
END:VEVENT
BEGIN:VEVENT
DTSTART;TZID=Europe/Madrid:20230223T190000
DTEND;TZID=Europe/Madrid:20230223T190000
DTSTAMP:20260420T035310
CREATED:20230126T135354Z
LAST-MODIFIED:20230126T145937Z
UID:18090-1677178800-1677178800@ateneodemadrid.com
SUMMARY:Presentación del Libro "Una quimera burguesa" de Joaquim Pisa
DESCRIPTION:Sección de Ciencias Jurídicas. Intervienen: Eduardo Montagut\, historiador\, José Manuel Roca\, escritor y Joaquim Pisa\, escritor\, autor del libro. Presenta: Rosa Amor. Introduce: José Antonio García Regueiro. Sala Pérez Galdós. 19h.
URL:https://ateneodemadrid.com/evento/presentacion-del-libro-una-quimera-burguesa-de-joaquim-pisa/
CATEGORIES:Presentación del libro
ATTACH;FMTTYPE=image/jpeg:https://ateneodemadrid.com/wp-content/uploads/2023/01/23-2-2023-Juridicas.jpg
END:VEVENT
BEGIN:VEVENT
DTSTART;TZID=Europe/Madrid:20230221T190000
DTEND;TZID=Europe/Madrid:20230221T190000
DTSTAMP:20260420T035310
CREATED:20230126T124656Z
LAST-MODIFIED:20230216T113411Z
UID:18067-1677006000-1677006000@ateneodemadrid.com
SUMMARY:Ciclo Un viaje por la historia a través de la novela "El año de la República" de José Calvo Poyato
DESCRIPTION:Ateneo de Madrid con la colaboración de Escritores con la Historia y el patrocinio de Carburos Médica y Sapio Live España. Ciclo “ Un Viaje por la Historia a través de la novela”. Coordinadores: José Calvo Poyato\, autor del libro y Antonio Pérez Henares\, escritor. Presenta Pedro López. Salón Ciudad de Úbeda. 19h.        
URL:https://ateneodemadrid.com/evento/presentacion-de-la-novela-de-jose-calvo-poyato/
CATEGORIES:Presentación del libro
ATTACH;FMTTYPE=image/jpeg:https://ateneodemadrid.com/wp-content/uploads/2023/01/21-2-2023-Poyato-1-5.jpg
END:VEVENT
BEGIN:VEVENT
DTSTART;TZID=Europe/Madrid:20230220T170000
DTEND;TZID=Europe/Madrid:20230220T170000
DTSTAMP:20260420T035310
CREATED:20230203T142908Z
LAST-MODIFIED:20230214T083550Z
UID:18451-1676912400-1676912400@ateneodemadrid.com
SUMMARY:Presentación del libro “El Sistema Nacional de Salud. Pasado\, presente y desafíos de futuro”
DESCRIPTION:Intervienen: Pedro Sabando Suárez\, ex subsecretario de Sanidad; Francisco Torres González\, catedrático de psiquiatría; Fernando Lamata\, exconsejero de sanidad (CLM); Juan J. Rodríguez Sandín\, ex presidente de la OMC. Presenta y modera: M.ª Luisa Carcedo Roces. Salón Ciudad de Úbeda. 17h.
URL:https://ateneodemadrid.com/evento/presentacion-del-libro-el-sistema-nacional-de-salud-pasado-presente-y-desafios-de-futuro/
CATEGORIES:Presentación del libro
ATTACH;FMTTYPE=image/jpeg:https://ateneodemadrid.com/wp-content/uploads/2023/02/20-2-2023-Salud-1.jpg
END:VEVENT
BEGIN:VEVENT
DTSTART;TZID=Europe/Madrid:20230210T193000
DTEND;TZID=Europe/Madrid:20230210T193000
DTSTAMP:20260420T035310
CREATED:20230201T141909Z
LAST-MODIFIED:20230203T133755Z
UID:18359-1676057400-1676057400@ateneodemadrid.com
SUMMARY:Presentación del libro "El franquismo contra la masonería femenina"
DESCRIPTION:Agrupación Ágora para el diálogo. Intervienen: María José Turrión García\, autora del libro\, ex-directora del Archivo Histórico de Salamanca. Presenta y modera: Manuel Según Alonso. Salón Ciudad de Úbeda. 19:30h.
URL:https://ateneodemadrid.com/evento/presentacion-del-libro-el-franquismo-contra-la-masoneria-femenina/
CATEGORIES:Presentación del libro
ATTACH;FMTTYPE=image/jpeg:https://ateneodemadrid.com/wp-content/uploads/2023/02/10-2-2023-Agora-1.jpg
END:VEVENT
END:VCALENDAR