BEGIN:VCALENDAR
VERSION:2.0
PRODID:-//Ateneo Madrid - ECPv6.15.15//NONSGML v1.0//EN
CALSCALE:GREGORIAN
METHOD:PUBLISH
X-WR-CALNAME:Ateneo Madrid
X-ORIGINAL-URL:https://ateneodemadrid.com
X-WR-CALDESC:Eventos para Ateneo Madrid
REFRESH-INTERVAL;VALUE=DURATION:PT1H
X-Robots-Tag:noindex
X-PUBLISHED-TTL:PT1H
BEGIN:VTIMEZONE
TZID:Europe/Madrid
BEGIN:DAYLIGHT
TZOFFSETFROM:+0100
TZOFFSETTO:+0200
TZNAME:CEST
DTSTART:20210328T010000
END:DAYLIGHT
BEGIN:STANDARD
TZOFFSETFROM:+0200
TZOFFSETTO:+0100
TZNAME:CET
DTSTART:20211031T010000
END:STANDARD
BEGIN:DAYLIGHT
TZOFFSETFROM:+0100
TZOFFSETTO:+0200
TZNAME:CEST
DTSTART:20220327T010000
END:DAYLIGHT
BEGIN:STANDARD
TZOFFSETFROM:+0200
TZOFFSETTO:+0100
TZNAME:CET
DTSTART:20221030T010000
END:STANDARD
BEGIN:DAYLIGHT
TZOFFSETFROM:+0100
TZOFFSETTO:+0200
TZNAME:CEST
DTSTART:20230326T010000
END:DAYLIGHT
BEGIN:STANDARD
TZOFFSETFROM:+0200
TZOFFSETTO:+0100
TZNAME:CET
DTSTART:20231029T010000
END:STANDARD
END:VTIMEZONE
BEGIN:VEVENT
DTSTART;TZID=Europe/Madrid:20220907T193000
DTEND;TZID=Europe/Madrid:20220907T193000
DTSTAMP:20260420T111732
CREATED:20220720T142743Z
LAST-MODIFIED:20220720T142804Z
UID:11389-1662579000-1662579000@ateneodemadrid.com
SUMMARY:Presentación de la novela Buena madera
DESCRIPTION:De José Luis Viejo Montesinos. Intervienen: Rafael Hernández Tristán\, doctor en Biología\, ex decano y ex vicerrector de la UCM. Julia Viejo Sánchez\, graduada en Traducción e Interpretación por la UAM; Javier Barbero Rubio\, licenciado en Ciencias Químicas y el autor. Presenta Rafael Hernández Tristán. Salón Ciudad de Úbeda. 19.30 h.
URL:https://ateneodemadrid.com/evento/presentacion-de-la-novela-buena-madera/
CATEGORIES:Conferencias,Presentación del libro
ATTACH;FMTTYPE=image/jpeg:https://ateneodemadrid.com/wp-content/uploads/2022/07/7-9-2022-ViejoMontesinos-scaled.jpg
END:VEVENT
BEGIN:VEVENT
DTSTART;TZID=Europe/Madrid:20220907T190000
DTEND;TZID=Europe/Madrid:20220907T190000
DTSTAMP:20260420T111732
CREATED:20220722T102526Z
LAST-MODIFIED:20220722T102536Z
UID:11409-1662577200-1662577200@ateneodemadrid.com
SUMMARY:Presentación del libro Geopolítica de las migraciones internacionales. Globalización\, realidades y teorías
DESCRIPTION:Agrupación de Culturas Orientales Gaman. Autor Jorge Garris. Presenta Julio González. Sala Nueva Estafeta.
URL:https://ateneodemadrid.com/evento/presentacion-del-libro-geopolitica-de-las-migraciones-internacionales-globalizacion-realidades-y-teorias/
CATEGORIES:Presentación del libro
ATTACH;FMTTYPE=image/jpeg:https://ateneodemadrid.com/wp-content/uploads/2022/07/7-9-2022-Gaman-scaled.jpg
END:VEVENT
BEGIN:VEVENT
DTSTART;TZID=Europe/Madrid:20220905T190000
DTEND;TZID=Europe/Madrid:20220905T190000
DTSTAMP:20260420T111732
CREATED:20220712T133436Z
LAST-MODIFIED:20220713T072959Z
UID:11168-1662404400-1662404400@ateneodemadrid.com
SUMMARY:Presentación del libro Ecos de una voz. La amistad traicionada: Juan Ramón Jiménez y la generación del 27
DESCRIPTION:Presentación del libro por Grupo Platero de Madrid (Asociación Cultural sin ánimo lucro). Autor: José Antonio Expósito. Interviene Rosa Mª Arroyo\, Licenciada en Filología Hispánica y miembro del Grupo Platero. Presenta el autor y cierra el acto Carmen Hernández-Pinzón\, sobrina-nieta del poeta Juan Ramón Jiménez. Modera Mª Luisa Turell\, licenciada en Filología Hispánica y coordinadora del Grupo Platero. Sala Nueva Estafeta.
URL:https://ateneodemadrid.com/evento/presentacion-del-libro-ecos-de-una-voz-la-amistad-traicionada-juan-ramon-jimenez-y-la-generacion-del-27/
CATEGORIES:Presentación del libro
ATTACH;FMTTYPE=image/jpeg:https://ateneodemadrid.com/wp-content/uploads/2022/07/5-9-2022-GrupoPlatero-1-scaled.jpg
END:VEVENT
BEGIN:VEVENT
DTSTART;TZID=Europe/Madrid:20220730T190000
DTEND;TZID=Europe/Madrid:20220730T190000
DTSTAMP:20260420T111732
CREATED:20220629T111857Z
LAST-MODIFIED:20220629T115517Z
UID:10786-1659207600-1659207600@ateneodemadrid.com
SUMMARY:Presentación de poemario "En el arco de la flor"
DESCRIPTION:De Tania Nilsen Temoche Sánchez. Intervienen: Gloria Cortijo Andrew\, vicepresidenta de la Asociación Red de Apoyo para el Diálogo Intercultural\, Eduardo González Viaña\, agregado cultural de la Embajada de Perú. Presenta: María Victoria Caro Bernal. Sala Nueva Estafeta.
URL:https://ateneodemadrid.com/evento/presentacion-de-poemario-en-el-arco-de-la-flor/
CATEGORIES:Presentación del libro
ATTACH;FMTTYPE=image/jpeg:https://ateneodemadrid.com/wp-content/uploads/2022/06/30-7-2022-Literatura-scaled.jpg
END:VEVENT
BEGIN:VEVENT
DTSTART;TZID=Europe/Madrid:20220712T190000
DTEND;TZID=Europe/Madrid:20220712T190000
DTSTAMP:20260420T111732
CREATED:20220626T161423Z
LAST-MODIFIED:20220712T094544Z
UID:10567-1657652400-1657652400@ateneodemadrid.com
SUMMARY:Presentación del libro España potencia europea en tecnología y líder de una comunidad de 600 millones de hispanohablantes
DESCRIPTION:Secciones Iberoamericana y Ciencias Económicas. Intervienen: Ramón Tamames y Antonio Rueda\, autores de Estructura Económica de España – 2022\, profesor de Estructura Económica\, UAM\, David Henneberger\, director Madrid\, Fundación Friedrich Naumann. Introduce Julio Moreno Aragoneses. Presenta José Luis Cordeiro. Modera Milagros López-Salvador. Salón de Actos. 19 h.
URL:https://ateneodemadrid.com/evento/presentacion-del-libro-espana-potencia-europea-en-tecnologia-y-lider-de-una-comunidad-de-600-millones-de-hispanohablantes/
CATEGORIES:Presentación del libro
ATTACH;FMTTYPE=image/jpeg:https://ateneodemadrid.com/wp-content/uploads/2022/06/12-7-2022-Iberoamericana-4-scaled.jpg
END:VEVENT
BEGIN:VEVENT
DTSTART;TZID=Europe/Madrid:20220711T193000
DTEND;TZID=Europe/Madrid:20220711T193000
DTSTAMP:20260420T111732
CREATED:20220626T160934Z
LAST-MODIFIED:20220630T092355Z
UID:10564-1657567800-1657567800@ateneodemadrid.com
SUMMARY:Presentación del libro Gueto WhatsApp
DESCRIPTION:Sección de Ciencias de la Educación. De Manuel Aguilar Yuste. Interviene el autor. Presentan Carlos Mendoza y Mauricio Escribano. Sala Estafeta. 19.30 horas.        
URL:https://ateneodemadrid.com/evento/presentacion-del-libro-gueto-whatsapp/
CATEGORIES:Presentación del libro
ATTACH;FMTTYPE=image/jpeg:https://ateneodemadrid.com/wp-content/uploads/2022/06/11-7-2022-Educacion-1-scaled.jpg
END:VEVENT
BEGIN:VEVENT
DTSTART;TZID=Europe/Madrid:20220701T190000
DTEND;TZID=Europe/Madrid:20220701T190000
DTSTAMP:20260420T111732
CREATED:20220625T163858Z
LAST-MODIFIED:20220630T092453Z
UID:10498-1656702000-1656702000@ateneodemadrid.com
SUMMARY:Presentación del libro El economista callejero
DESCRIPTION:Sección Iberoamericana y Ciencias Económicas. Interviene: Axel Káiser\, presidente Fundación para el Progreso\, Chile . Introduce José Martínez Pastor. Presenta José Luis Cordeiro. Modera Milagros López-Salvador. Sala Nueva Estafeta. 19 h.
URL:https://ateneodemadrid.com/evento/presentacion-del-libro-el-economista-callejero/
CATEGORIES:Presentación del libro
ATTACH;FMTTYPE=image/jpeg:https://ateneodemadrid.com/wp-content/uploads/2022/06/1-7-2022-Iberoamericana-1-scaled.jpg
END:VEVENT
BEGIN:VEVENT
DTSTART;TZID=Europe/Madrid:20220630T070000
DTEND;TZID=Europe/Madrid:20220630T190000
DTSTAMP:20260420T111732
CREATED:20220602T133346Z
LAST-MODIFIED:20220607T102407Z
UID:9805-1656572400-1656615600@ateneodemadrid.com
SUMMARY:Presentación del libro Las víctimas militares de ETA\, del Coronel Luis Miguel Sordo Estella
DESCRIPTION:Agrupación Ars Militum. Interviene el autor. Presenta Eduardo Sánchez Alcaraz. Sala Mariano José de Larra. 19 h.
URL:https://ateneodemadrid.com/evento/presentacion-del-libro-las-victimas-militares-de-eta-del-coronel-luis-miguel-sordo-estella/
CATEGORIES:Presentación del libro
ATTACH;FMTTYPE=image/jpeg:https://ateneodemadrid.com/wp-content/uploads/2022/06/30-6-2022-ArsMillitum-scaled.jpg
END:VEVENT
BEGIN:VEVENT
DTSTART;TZID=Europe/Madrid:20220629T193000
DTEND;TZID=Europe/Madrid:20220629T193000
DTSTAMP:20260420T111732
CREATED:20220620T150733Z
LAST-MODIFIED:20220620T150733Z
UID:10333-1656531000-1656531000@ateneodemadrid.com
SUMMARY:Presentación del libro: El Síntoma Patriarcal. Ensayo sobre psicoterapia con mujeres desde una perspectiva de género
DESCRIPTION:Agrupación de Retórica y Elocuencia. De Erika Adánez Redondo\, psicóloga sanitaria\, psicoterapeuta y especialista en Género y Mujer. Interviene\, además de la autora\, Noelia Adánez González\, escritora\, novelista y dramaturga. Doctora en Ciencias Políticas y profesora experta en relaciones de género y divulgación feminista. Presentan: María Victoria Caro Bernal y Manuel Según Alonso. Sala Nueva Estafeta.
URL:https://ateneodemadrid.com/evento/presentacion-del-libro-el-sintoma-patriarcal-ensayo-sobre-psicoterapia-con-mujeres-desde-una-perspectiva-de-genero/
CATEGORIES:Presentación del libro
ATTACH;FMTTYPE=image/jpeg:https://ateneodemadrid.com/wp-content/uploads/2022/06/Cartel-29-de-junio-scaled.jpg
END:VEVENT
BEGIN:VEVENT
DTSTART;TZID=Europe/Madrid:20220628T200000
DTEND;TZID=Europe/Madrid:20220628T200000
DTSTAMP:20260420T111732
CREATED:20220602T114016Z
LAST-MODIFIED:20220622T144221Z
UID:9778-1656446400-1656446400@ateneodemadrid.com
SUMMARY:Presentación del libro Buscando la inmortalidad
DESCRIPTION:Sección de Pensamiento Marginal y Agrupación de Estudios Médicos Legales. Plan A y Plan B para la Longevidad: Diferentes visiones de políticos\, médicos\, economistas\, abogados y medios. Marta Marbán de Frutos presidenta Comisión de Sanidad Asamblea de Madrid; Angel Durántez\, fundador y director médico Clínica Dr. Durántez;  Carlos Rodríguez Sau\, director Area LegalTech\, Andersen; Ignacio Vivanco Cazaña\, director Comercial NARA Seguros; Alba Ramón Cazorla\, presidenta Fundación Longenia; Ponente 6: Juan Manuel Zafra\, director Revista TELOS\, Fundación Telefónica. Introduce: Lola Marcos. Presenta: José Luis Cordeiro. Modera: Enrique Dorado. Salón de Actos.
URL:https://ateneodemadrid.com/evento/panel-sobre-longevidad-con-los-partidos-politicos-que-piensan-los-partidos-sobre-la-extension-de-la-vida/
CATEGORIES:Conferencias,Presentación del libro
ATTACH;FMTTYPE=image/jpeg:https://ateneodemadrid.com/wp-content/uploads/2022/06/28-6-2022-1-Pensamiento-1-scaled.jpg
END:VEVENT
BEGIN:VEVENT
DTSTART;TZID=Europe/Madrid:20220628T193000
DTEND;TZID=Europe/Madrid:20220628T193000
DTSTAMP:20260420T111732
CREATED:20220620T143131Z
LAST-MODIFIED:20220624T184916Z
UID:10324-1656444600-1656444600@ateneodemadrid.com
SUMMARY:Presentación del libro Fiscalía Europea: primer año de aplicación del Reglamento (UE) 2017/1939 y de la Ley Orgánica 9/2021
DESCRIPTION:Autora Carmen Rodríguez Medel.  Intervienen: Olga Muñoz Mota y Pablo Ruz\, ambos fiscal y juez\, respectivamente\, trabajando en la actualidad como Delegados de la Fiscalía Europea en España\, Joaquín Delgado\, magistrado de la Sala de lo Penal de la Audiencia Nacional) María Tardón Olmos\, Magistrada-Juez del Juzgado Central de Instrucción 3 de Madrid y Gabriel Rodríguez-Ramos Ladaria\, Letrado del despacho Rodríguez Ramos. Sala Larra 19.30 h.
URL:https://ateneodemadrid.com/evento/presentacion-del-libro-fiscalia-europea-primer-ano-de-aplicacion-del-reglamento-ue-2017-1939-y-de-la-ley-organica-9-2021/
CATEGORIES:Presentación del libro
ATTACH;FMTTYPE=image/jpeg:https://ateneodemadrid.com/wp-content/uploads/2022/06/28-6-2022-libro-2-scaled.jpg
END:VEVENT
BEGIN:VEVENT
DTSTART;TZID=Europe/Madrid:20220627T193000
DTEND;TZID=Europe/Madrid:20220627T193000
DTSTAMP:20260420T111732
CREATED:20220531T134433Z
LAST-MODIFIED:20220531T134434Z
UID:9662-1656358200-1656358200@ateneodemadrid.com
SUMMARY:Presentación del libro Cruzando el Estrecho (de Sierra de Montecoche a Capitán Tormenta)
DESCRIPTION:Sección de Ciencia y Cultura Militar. De Guerrier Le Carré. Interviene Manuel Guerrero\, escritor. Presenta Rafael Egido. Sala Nueva Estafeta. 19.30 h.
URL:https://ateneodemadrid.com/evento/presentacion-del-libro-cruzando-el-estrecho-de-sierra-de-montecoche-a-capitan-tormenta/
CATEGORIES:Presentación del libro
ATTACH;FMTTYPE=image/jpeg:https://ateneodemadrid.com/wp-content/uploads/2022/05/27-6-2022-Militar-scaled.jpg
END:VEVENT
BEGIN:VEVENT
DTSTART;TZID=Europe/Madrid:20220623T200000
DTEND;TZID=Europe/Madrid:20220623T200000
DTSTAMP:20260420T111732
CREATED:20220621T075041Z
LAST-MODIFIED:20220621T075042Z
UID:10363-1656014400-1656014400@ateneodemadrid.com
SUMMARY:Presentación del libro Historia de un vasco. Cartas contra el olvido
DESCRIPTION:Agrupación Justicia y Cultura. Intervienen: Fernando Savater\, profesor de Filosofía y escritor; Iñaki Arteta\, cineasta\, guionista\, fotógrafo y autor del libro; Mariano José Herrador\, abogado. Salón Ciudad de Úbeda.
URL:https://ateneodemadrid.com/evento/presentacion-del-libro-historia-de-un-vasco-cartas-contra-el-olvido/
CATEGORIES:Presentación del libro
ATTACH;FMTTYPE=image/jpeg:https://ateneodemadrid.com/wp-content/uploads/2022/06/23-6-2022-JusticiayCultura-scaled.jpg
END:VEVENT
BEGIN:VEVENT
DTSTART;TZID=Europe/Madrid:20220623T190000
DTEND;TZID=Europe/Madrid:20220623T190000
DTSTAMP:20260420T111732
CREATED:20220616T145630Z
LAST-MODIFIED:20220616T145631Z
UID:10261-1656010800-1656010800@ateneodemadrid.com
SUMMARY:Presentación del libro "Coto privado de infancia"\, de Paco Tomás
DESCRIPTION:Presenta Bob Pop.
URL:https://ateneodemadrid.com/evento/presentacion-del-libro-coto-privado-de-infancia-de-paco-tomas/
CATEGORIES:Presentación del libro
ATTACH;FMTTYPE=image/jpeg:https://ateneodemadrid.com/wp-content/uploads/2022/06/23-6-2022-LaCantina-scaled.jpg
END:VEVENT
BEGIN:VEVENT
DTSTART;TZID=Europe/Madrid:20220621T190000
DTEND;TZID=Europe/Madrid:20220621T190000
DTSTAMP:20260420T111732
CREATED:20220616T090517Z
LAST-MODIFIED:20220616T090518Z
UID:10233-1655838000-1655838000@ateneodemadrid.com
SUMMARY:Presentación del libro La mirada quieta (de Pérez Galdós)\, de Mario Vargas Llosa
DESCRIPTION:El autor hablará con: Andrés Trapiello. Modera: Juan Cruz. Salón de Actos.
URL:https://ateneodemadrid.com/evento/presentacion-del-libro-la-mirada-quieta-de-perez-galdos-de-mario-vargas-llosa/
CATEGORIES:Presentación del libro
ATTACH;FMTTYPE=image/jpeg:https://ateneodemadrid.com/wp-content/uploads/2022/06/21-6-2022-VargasLlosa-scaled.jpg
END:VEVENT
BEGIN:VEVENT
DTSTART;TZID=Europe/Madrid:20220616T193000
DTEND;TZID=Europe/Madrid:20220616T193000
DTSTAMP:20260420T111732
CREATED:20220530T185255Z
LAST-MODIFIED:20220530T185255Z
UID:9593-1655407800-1655407800@ateneodemadrid.com
SUMMARY:Presentación del libro La secularización en España\, de Rafael Ruiz Andrés
DESCRIPTION:Intervienen: Raúl García Bravo\, de la editorial Cátedra\, María Jesús Funes\, profesora de Sociología de la UNED\, Francisco Javier Fernández Vallina\, profesor de la UCM\, Irene Jiménez Toledo\, periodista y redactora de TVE. Presenta Ángel Martínez Samperio. Sala Nueva  Estafeta. 19.30 h
URL:https://ateneodemadrid.com/evento/presentacion-del-libro-la-secularizacion-en-espana-de-rafael-ruiz-andres/
CATEGORIES:Presentación del libro
ATTACH;FMTTYPE=image/jpeg:https://ateneodemadrid.com/wp-content/uploads/2022/05/16-6-2022-libro-scaled.jpg
END:VEVENT
BEGIN:VEVENT
DTSTART;TZID=Europe/Madrid:20220615T193000
DTEND;TZID=Europe/Madrid:20220615T193000
DTSTAMP:20260420T111732
CREATED:20220530T184722Z
LAST-MODIFIED:20220530T184723Z
UID:9588-1655321400-1655321400@ateneodemadrid.com
SUMMARY:Presentación del libro: De este y de otros mundos. Cuentos memorialistas y fantásticos\, de José Eduardo Valenzuela Ulloa
DESCRIPTION:Sección de Literatura. Presentación del libro: De este y de otros mundos. Cuentos memorialistas y fantásticos\, de José Eduardo Valenzuela Ulloa\, con ilustraciones de Santiago Valenzuela García. Intervienen\, además de su autor: Luis Alberto de Cuenca Prado\, Julián Sauquillo González y José Siles Artés. Presenta: María Victoria Caro Bernal. Sala Nueva Estafeta. 
URL:https://ateneodemadrid.com/evento/presentacion-del-libro-de-este-y-de-otros-mundos-cuentos-memorialistas-y-fantasticos-de-jose-eduardo-valenzuela-ulloa/
CATEGORIES:Presentación del libro
ATTACH;FMTTYPE=image/jpeg:https://ateneodemadrid.com/wp-content/uploads/2022/05/15-6-2022-Literatura-scaled.jpg
END:VEVENT
BEGIN:VEVENT
DTSTART;TZID=Europe/Madrid:20220614T190000
DTEND;TZID=Europe/Madrid:20220614T190000
DTSTAMP:20260420T111732
CREATED:20220609T104745Z
LAST-MODIFIED:20220609T133003Z
UID:10095-1655233200-1655233200@ateneodemadrid.com
SUMMARY:Presentación del libro La historia no es la que es es la que te cuentan
DESCRIPTION:Conversación con Mikel Herrán\, arqueólogo\, autor del libro; Sara López Jiménez\, historiadora y mediadora cultural en Herstóricas. La Cantina del Ateneo
URL:https://ateneodemadrid.com/evento/presentacion-del-libro-la-historia-no-es-la-que-es-es-la-que-te-cuentan/
CATEGORIES:Presentación del libro
ATTACH;FMTTYPE=image/jpeg:https://ateneodemadrid.com/wp-content/uploads/2022/06/14-6-2022-LaCantina-1-scaled.jpg
END:VEVENT
BEGIN:VEVENT
DTSTART;TZID=Europe/Madrid:20220610T200000
DTEND;TZID=Europe/Madrid:20220610T200000
DTSTAMP:20260420T111732
CREATED:20220606T083920Z
LAST-MODIFIED:20220606T083920Z
UID:9917-1654891200-1654891200@ateneodemadrid.com
SUMMARY:Presentación del libro España y sus asesinos de Aarón García Peña
DESCRIPTION:Presenta: Miguel Losada. Sala Nueva Estafeta.
URL:https://ateneodemadrid.com/evento/presentacion-del-libro-espana-y-sus-asesinos-de-aaron-garcia-pena/
CATEGORIES:Presentación del libro
ATTACH;FMTTYPE=image/jpeg:https://ateneodemadrid.com/wp-content/uploads/2022/06/10-6-2022-Aaron-scaled.jpg
END:VEVENT
BEGIN:VEVENT
DTSTART;TZID=Europe/Madrid:20220610T193000
DTEND;TZID=Europe/Madrid:20220610T193000
DTSTAMP:20260420T111732
CREATED:20220529T185907Z
LAST-MODIFIED:20220529T185907Z
UID:9553-1654889400-1654889400@ateneodemadrid.com
SUMMARY:Presentación del libro Ética y responsabilidad. La condición responsiva del ser humano
DESCRIPTION:Agrupación Retórica y Elocuencia. De Graciano González Rodríguez-Arnáiz\, catedrático  emérito  de Ética\, UCM. Intervendrán además de su autor Javier Barraca\, profesor titular de Filosofía\, URJC y Nieves Gómez Álvarez\, profesora en el Máster de Antropología (AEP-UDIMA). Presenta Maria Victoria Caro. Sala Mariano José de Larra. 19.30 h
URL:https://ateneodemadrid.com/evento/presentacion-del-libro-etica-y-responsabilidad-la-condicion-responsiva-del-ser-humano/
CATEGORIES:Presentación del libro
ATTACH;FMTTYPE=image/jpeg:https://ateneodemadrid.com/wp-content/uploads/2022/05/10-6-2022-Retorica-scaled.jpg
END:VEVENT
BEGIN:VEVENT
DTSTART;TZID=Europe/Madrid:20220606T200000
DTEND;TZID=Europe/Madrid:20220606T200000
DTSTAMP:20260420T111732
CREATED:20220529T170526Z
LAST-MODIFIED:20220529T171645Z
UID:9521-1654545600-1654545600@ateneodemadrid.com
SUMMARY:Presentación del libro\, Rey servido y patria honrada: una visión de la defensa de España
DESCRIPTION:Agrupación Ars Militum. Autor Fernando Alejandre\, general de ejército. Introduce GD Francisco Ramos Presenta y modera Eduardo Sánchez. Salón de Actos. 20 h.
URL:https://ateneodemadrid.com/evento/presentacion-del-libro-rey-servido-y-patria-honrada-una-vision-de-la-defensa-de-espana/
CATEGORIES:Presentación del libro
ATTACH;FMTTYPE=image/jpeg:https://ateneodemadrid.com/wp-content/uploads/2022/05/6-6-2022-ArsMillitum-1-scaled.jpg
END:VEVENT
BEGIN:VEVENT
DTSTART;TZID=Europe/Madrid:20220605T123000
DTEND;TZID=Europe/Madrid:20220605T123000
DTSTAMP:20260420T111732
CREATED:20220529T170054Z
LAST-MODIFIED:20220530T140801Z
UID:9516-1654432200-1654432200@ateneodemadrid.com
SUMMARY:Presentación del libro Días para ser gato\, de Pedro Zuazua
DESCRIPTION:Un encuentro de palabra y música con el autor y con los músicos Igor Paskual y Pablo Moro. Salón de Actos. 12.30 h.
URL:https://ateneodemadrid.com/evento/presentacion-del-libro-dias-para-ser-gato-de-pedro-zuazua/
CATEGORIES:Presentación del libro
ATTACH;FMTTYPE=image/jpeg:https://ateneodemadrid.com/wp-content/uploads/2022/05/5-6-2022-libro-1-scaled.jpg
END:VEVENT
BEGIN:VEVENT
DTSTART;TZID=Europe/Madrid:20220603T190000
DTEND;TZID=Europe/Madrid:20220603T190000
DTSTAMP:20260420T111732
CREATED:20220529T165257Z
LAST-MODIFIED:20220602T121201Z
UID:9508-1654282800-1654282800@ateneodemadrid.com
SUMMARY:Presentación de libro Arias of Consolation\, de John Liddy
DESCRIPTION:Sección de Ciencias de la Educación. Intervienen: Dominic Taylor\, editor de Revival  Press y director del Limerick Writers´Centre\, Eoin Devereux\, sociólogo cultural y escritor\, profesor de la Universidad de Limerick. Presenta María Ángeles Caño. Modera Sara Cantó.  Sala Nueva Estafeta.19:00h.
URL:https://ateneodemadrid.com/evento/presentacion-de-libro-arias-of-consolation-de-john-liddy/
CATEGORIES:Presentación del libro
ATTACH;FMTTYPE=image/jpeg:https://ateneodemadrid.com/wp-content/uploads/2022/05/3-6-2022-Bloomsday-4-scaled.jpg
END:VEVENT
BEGIN:VEVENT
DTSTART;TZID=Europe/Madrid:20220602T193000
DTEND;TZID=Europe/Madrid:20220602T193000
DTSTAMP:20260420T111732
CREATED:20220527T105304Z
LAST-MODIFIED:20220527T105305Z
UID:9453-1654198200-1654198200@ateneodemadrid.com
SUMMARY:Presentación del libro Marcelo de Guillermo Fesser
DESCRIPTION:Encuentro con: Guillermo Fesser\, periodista y escritor y Marcelo\, barman protagonista de la novela. Introduce:Fernando Paz\, director de Área de Narrativa del Grupo Anaya. Salón de Actos.
URL:https://ateneodemadrid.com/evento/presentacion-del-libro-marcelo-de-guillermo-fesser/
CATEGORIES:Presentación del libro
ATTACH;FMTTYPE=image/jpeg:https://ateneodemadrid.com/wp-content/uploads/2022/05/2-6-2022-Marcelo-scaled.jpg
END:VEVENT
BEGIN:VEVENT
DTSTART;TZID=Europe/Madrid:20220527T193000
DTEND;TZID=Europe/Madrid:20220527T193000
DTSTAMP:20260420T111732
CREATED:20220428T133247Z
LAST-MODIFIED:20220502T090218Z
UID:8484-1653679800-1653679800@ateneodemadrid.com
SUMMARY:Presentación del poemario. Bajo la flor\, la rama. Antología poética de la Axarquía de Málaga
DESCRIPTION:Sección de Literatura. Con poemas de los ilustres poetas: Salvador Rueda\, María Zambrano\, Joaquín Lobato y Javier Núñez Yánez. Intervienen los autores: Cristina Cobo Hervás\, Ildefonso Gómez Sánchez\, Luisa Serrano Fuentes y Antonio Sánchez Millán\, entre otros. Participan: Ana María López Expósito\, Alberto Morate y Laura Olalla Olwid. Presenta: María Victoria Caro Bernal. Sala Nueva Estafeta.
URL:https://ateneodemadrid.com/evento/presentacion-del-poemario-bajo-la-flor-la-rama-antologia-poetica-de-la-axarquia-de-malaga/
CATEGORIES:Presentación del libro
ATTACH;FMTTYPE=image/jpeg:https://ateneodemadrid.com/wp-content/uploads/2022/04/27-5-2022-Literatura-1-scaled.jpg
END:VEVENT
BEGIN:VEVENT
DTSTART;TZID=Europe/Madrid:20220521T003000
DTEND;TZID=Europe/Madrid:20220521T003000
DTSTAMP:20260420T111732
CREATED:20220510T081714Z
LAST-MODIFIED:20220510T133153Z
UID:8872-1653093000-1653093000@ateneodemadrid.com
SUMMARY:Presentación de  los libros: "Soy Catalina de Salazar\, mujer de Miguel de Cervantes" y "La violencia es una veta miserable que cubrimos con canciones"
DESCRIPTION:Academia de las Artes Escénicas y Ateneo de Madrid. Presentación de  los libros: Soy Catalina de Salazar\, mujer de Miguel de Cervantes de José Manuel Lucía Megías y La violencia es una veta miserable que cubrimos con canciones de Marifé Santiago Bolaños. Sala Mariano José de Larra.
URL:https://ateneodemadrid.com/evento/presentacion-de-los-libros-soy-catalina-de-salazar-mujer-de-miguel-de-cervantes-y-la-violencia-es-una-veta-miserable-que-cubrimos-con-canciones/
CATEGORIES:Presentación del libro
ATTACH;FMTTYPE=image/jpeg:https://ateneodemadrid.com/wp-content/uploads/2022/05/21-5-2022-ArtesEscenicas-1-scaled.jpg
END:VEVENT
BEGIN:VEVENT
DTSTART;TZID=Europe/Madrid:20220520T193000
DTEND;TZID=Europe/Madrid:20220520T193000
DTSTAMP:20260420T111732
CREATED:20220504T074052Z
LAST-MODIFIED:20220504T074052Z
UID:8662-1653075000-1653075000@ateneodemadrid.com
SUMMARY:Defensa de lo contemporáneo:homenaje a doña Emilia Pardo Bazán.La primera catedrática de España
DESCRIPTION:Agrupación 1820 del Ateneo de Madrid\, Facultad de Filología de la UCM y Editorial Guillermo Escolar Editor.  Intervienen: José Manuel Lucía Megías\, catedrático de Filología y escritor; Rosa Amor del Olmo\, profesora de Literatura y escritora; María José Goyanes\, actriz; Karmele Aramburu\, actriz. Presenta: Inés de Alvear Trenor. Salón de Actos.
URL:https://ateneodemadrid.com/evento/defensa-de-lo-contemporaneohomenaje-a-dona-emilia-pardo-bazan-la-primera-catedratica-de-espana/
CATEGORIES:Presentación del libro
ATTACH;FMTTYPE=image/jpeg:https://ateneodemadrid.com/wp-content/uploads/2022/05/20-5-2022-Agrupacion1820-scaled.jpg
END:VEVENT
BEGIN:VEVENT
DTSTART;TZID=Europe/Madrid:20220519T190000
DTEND;TZID=Europe/Madrid:20220519T190000
DTSTAMP:20260420T111732
CREATED:20220428T111359Z
LAST-MODIFIED:20220505T074352Z
UID:8472-1652986800-1652986800@ateneodemadrid.com
SUMMARY:Presentación de la novela La Gran Traición
DESCRIPTION:De José Ignacio Díaz Lucas. Intervienen junto al autor Carlos Espinosa de los Monteros y Bernaldo de Quirós. Sala Nueva Estafeta.
URL:https://ateneodemadrid.com/evento/presentacion-de-la-novela-la-gran-traicion/
CATEGORIES:Presentación del libro
ATTACH;FMTTYPE=image/jpeg:https://ateneodemadrid.com/wp-content/uploads/2022/04/19-5-2022-La-gran-traicion-2-scaled.jpg
END:VEVENT
BEGIN:VEVENT
DTSTART;TZID=Europe/Madrid:20220518T190000
DTEND;TZID=Europe/Madrid:20220518T190000
DTSTAMP:20260420T111732
CREATED:20220509T103337Z
LAST-MODIFIED:20220510T081821Z
UID:8808-1652900400-1652900400@ateneodemadrid.com
SUMMARY:Presentación del libro «El Patrimonio Cultural\, Natural e Inmaterial de España»
DESCRIPTION:Promovido por ADIPROPE y editado por Mc Graw Hill. Intervienen: Ignacio Buqueras y Bach\, académico\, empresario\,  presidente de la Asociación para la Difusión y Promoción del Patrimonio Mundial de España\, ADIPROPE;  Constanza Carmona\, prof. de la Universidad de Salamanca\, secretaria General de ADIPROPE; Luis Lafuente Batanero\, director General de Patrimonio Cultural del Ayuntamiento de Madrid. Salón Ciudad de Úbeda.
URL:https://ateneodemadrid.com/evento/presentacion-del-libro-el-patrimonio-cultural-natural-e-inmaterial-de-espana/
CATEGORIES:Presentación del libro
ATTACH;FMTTYPE=image/jpeg:https://ateneodemadrid.com/wp-content/uploads/2022/05/18-5-2022-Adiprope-2-scaled.jpg
END:VEVENT
BEGIN:VEVENT
DTSTART;TZID=Europe/Madrid:20220517T190000
DTEND;TZID=Europe/Madrid:20220517T190000
DTSTAMP:20260420T111732
CREATED:20220426T124838Z
LAST-MODIFIED:20220511T080349Z
UID:8143-1652814000-1652814000@ateneodemadrid.com
SUMMARY:Presentación del libro La democracia paritaria en América Latina: tres dimensiones explicativas\, de Irune Aguirrezabal
DESCRIPTION:Junta de Gobierno. Presentación del libro La democracia paritaria en América Latina: tres dimensiones explicativas\, de Irune Aguirrezabal. Intervienen: Elena Valenciano\, presidenta de Fundacion Mujeres y ex eurodiputada por el PSOE; Elena Diego\, presidenta de la Comisión de Cooperación al Desarrollo del Senado; Irune Aguirrezabal\, autora del libro y ex funcionaria de ONU Mujeres. Conduce el acto: Cristina Manzano (ESGLOBAL). Sala Mariano José de Larra. 19 h.
URL:https://ateneodemadrid.com/evento/presentacion-del-libro-la-democracia-paritaria-en-america-latina-tres-dimensiones-explicativas-de-irune-aguirrezabal/
CATEGORIES:Presentación del libro
ATTACH;FMTTYPE=image/jpeg:https://ateneodemadrid.com/wp-content/uploads/2022/04/17-5-2022-Democracia-paritaria-2-scaled.jpg
END:VEVENT
END:VCALENDAR