BEGIN:VCALENDAR
VERSION:2.0
PRODID:-//Ateneo Madrid - ECPv6.15.15//NONSGML v1.0//EN
CALSCALE:GREGORIAN
METHOD:PUBLISH
X-WR-CALNAME:Ateneo Madrid
X-ORIGINAL-URL:https://ateneodemadrid.com
X-WR-CALDESC:Eventos para Ateneo Madrid
REFRESH-INTERVAL;VALUE=DURATION:PT1H
X-Robots-Tag:noindex
X-PUBLISHED-TTL:PT1H
BEGIN:VTIMEZONE
TZID:Europe/Madrid
BEGIN:DAYLIGHT
TZOFFSETFROM:+0100
TZOFFSETTO:+0200
TZNAME:CEST
DTSTART:20210328T010000
END:DAYLIGHT
BEGIN:STANDARD
TZOFFSETFROM:+0200
TZOFFSETTO:+0100
TZNAME:CET
DTSTART:20211031T010000
END:STANDARD
BEGIN:DAYLIGHT
TZOFFSETFROM:+0100
TZOFFSETTO:+0200
TZNAME:CEST
DTSTART:20220327T010000
END:DAYLIGHT
BEGIN:STANDARD
TZOFFSETFROM:+0200
TZOFFSETTO:+0100
TZNAME:CET
DTSTART:20221030T010000
END:STANDARD
BEGIN:DAYLIGHT
TZOFFSETFROM:+0100
TZOFFSETTO:+0200
TZNAME:CEST
DTSTART:20230326T010000
END:DAYLIGHT
BEGIN:STANDARD
TZOFFSETFROM:+0200
TZOFFSETTO:+0100
TZNAME:CET
DTSTART:20231029T010000
END:STANDARD
END:VTIMEZONE
BEGIN:VEVENT
DTSTART;TZID=Europe/Madrid:20220412T193000
DTEND;TZID=Europe/Madrid:20220412T193000
DTSTAMP:20260420T144121
CREATED:20220328T105126Z
LAST-MODIFIED:20220404T094051Z
UID:6864-1649791800-1649791800@ateneodemadrid.com
SUMMARY:Presentación del libro La Leona (ONG La Leona Solidaria)
DESCRIPTION:Agrupación de Retórica y Elocuencia y Sección de Literatura. Presentación del libro de Millán Villalvilla Aranda\, escritor\, técnico experto en microfilmación y digitalización. Intervienen\, además de su autor: Honorine Mangomo\, presidenta de la Asociación Cultural Mwana Glenn\, y Gizela Eunice Ribeiro\, presidenta fundadora de La Leona Solidaria\, ONG. Presenta: María Victoria Caro Bernal. Salón Ciudad de Úbeda.
URL:https://ateneodemadrid.com/evento/presentacion-del-libro-la-leona-ong-la-leona-solidaria/
CATEGORIES:Presentación del libro
ATTACH;FMTTYPE=image/jpeg:https://ateneodemadrid.com/wp-content/uploads/2022/03/12-4-2022-Retorica-3-scaled.jpg
END:VEVENT
BEGIN:VEVENT
DTSTART;TZID=Europe/Madrid:20220411T190000
DTEND;TZID=Europe/Madrid:20220411T190000
DTSTAMP:20260420T144121
CREATED:20220328T102832Z
LAST-MODIFIED:20220328T102833Z
UID:6861-1649703600-1649703600@ateneodemadrid.com
SUMMARY:¿Se puede vivir de la filosofía? Presentación del libro Emprendimiento filosófico. Cómo crear un negocio ético
DESCRIPTION:Sección de Filosofía. De Carmen Bengoechea Bernal. Preside Juan Rodríguez Hopplichler. Presenta Aarón García Peña. Interviene la autora. Salón Ciudad de Úbeda.        
URL:https://ateneodemadrid.com/evento/se-puede-vivir-de-la-filosofia-presentacion-del-libro-emprendimiento-filosofico-como-crear-un-negocio-etico/
CATEGORIES:Presentación del libro
ATTACH;FMTTYPE=image/jpeg:https://ateneodemadrid.com/wp-content/uploads/2022/03/11-4-2022-Filosofia-scaled.jpg
END:VEVENT
BEGIN:VEVENT
DTSTART;TZID=Europe/Madrid:20220406T190000
DTEND;TZID=Europe/Madrid:20220406T190000
DTSTAMP:20260420T144121
CREATED:20220325T143514Z
LAST-MODIFIED:20220404T094204Z
UID:6798-1649271600-1649271600@ateneodemadrid.com
SUMMARY:Presentación del poemario Discurso de Blanda y Firme (Vigésimas de dos en mí)
DESCRIPTION:Secciones de Literatura y de Ciencias Económicas. De Antonio Perán Elvira. Intervienen: Carmen Feito\, rapsoda y Antonio Nieto\, escritor. Presentan: Victoria Caro y Francisco Forte. Sala Nueva Estafeta. 19 h.
URL:https://ateneodemadrid.com/evento/presentacion-del-poemario-discurso-de-blanda-y-firme-vigesimas-de-dos-en-mi/
CATEGORIES:Presentación del libro
ATTACH;FMTTYPE=image/jpeg:https://ateneodemadrid.com/wp-content/uploads/2022/03/6-4-2022-Literatura-2-scaled.jpg
END:VEVENT
BEGIN:VEVENT
DTSTART;TZID=Europe/Madrid:20220404T193000
DTEND;TZID=Europe/Madrid:20220404T193000
DTSTAMP:20260420T144121
CREATED:20220325T141159Z
LAST-MODIFIED:20220329T143907Z
UID:6782-1649100600-1649100600@ateneodemadrid.com
SUMMARY:Presentación del libro Vivienda: La revolución más urgente
DESCRIPTION:Agrupación 1820. De Alejandro Inurrieta. Interviene Miguel Sebastián\, economista y exministro de Industria y el autor. Presenta Javier Ruiz. Salón de Actos.
URL:https://ateneodemadrid.com/evento/presentacion-del-libro-vivienda-la-revolucion-mas-urgente/
CATEGORIES:Presentación del libro
ATTACH;FMTTYPE=image/jpeg:https://ateneodemadrid.com/wp-content/uploads/2022/03/4-4-2022-G1820-1-scaled.jpg
END:VEVENT
BEGIN:VEVENT
DTSTART;TZID=Europe/Madrid:20220329T190000
DTEND;TZID=Europe/Madrid:20220329T203000
DTSTAMP:20260420T144121
CREATED:20220301T151743Z
LAST-MODIFIED:20220322T101108Z
UID:5870-1648580400-1648585800@ateneodemadrid.com
SUMMARY:Presentación del "Diccionario de pensadoras españolas contemporáneas. Siglos XIX y XX"
DESCRIPTION:Sección de Ciencias Históricas. Intervienen: Juana Sánchez-Gey\, profesora de Filosofía de la UAM\, Marta Nogueroles\, profesora de Filosofía de la UAM y Ángel Casado\, profesor emérito de Filosofía de la UAM. Presenta y modera Guadalupe Sánchez. Sala Nueva Estafeta.
URL:https://ateneodemadrid.com/evento/presentacion-del-diccionario-de-pensadoras-espanolas-contemporaneas-siglos-xix-y-xx/
CATEGORIES:Presentación del libro
ATTACH;FMTTYPE=image/jpeg:https://ateneodemadrid.com/wp-content/uploads/2022/03/29-3-2022-Historicas-scaled.jpg
END:VEVENT
BEGIN:VEVENT
DTSTART;TZID=Europe/Madrid:20220328T193000
DTEND;TZID=Europe/Madrid:20220328T210000
DTSTAMP:20260420T144121
CREATED:20220301T125804Z
LAST-MODIFIED:20220301T142410Z
UID:5844-1648495800-1648501200@ateneodemadrid.com
SUMMARY:Presentación del libro Inventar el futuro\, de Federico Mayor Zaragoza
DESCRIPTION:Sección de Derechos Civiles y Cátedra de Derechos Humanos. Interviene\, además de su autor: Iñaki Gabilondo\, periodista. Presenta María Victoria Caro. Salón de Actos. 19.30 h.
URL:https://ateneodemadrid.com/evento/presentacion-del-libro-inventar-el-futuro-de-federico-mayor-zaragoza/
CATEGORIES:Presentación del libro
ATTACH;FMTTYPE=image/jpeg:https://ateneodemadrid.com/wp-content/uploads/2022/03/28-3-2022-Civiles-scaled.jpg
END:VEVENT
BEGIN:VEVENT
DTSTART;TZID=Europe/Madrid:20220317T183000
DTEND;TZID=Europe/Madrid:20220317T200000
DTSTAMP:20260420T144121
CREATED:20220311T095601Z
LAST-MODIFIED:20220311T121259Z
UID:6369-1647541800-1647547200@ateneodemadrid.com
SUMMARY:Presentación del libro  La generación del mollete. Crónica de un nuevo andalucismo
DESCRIPTION:Presentación del libro  La generación del mollete. Crónica de un nuevo andalucismo. Autor Jesús Jurado.  Intervienen: Pilar González\, senadora\, José Enrique Monrosi\, periodista e Isabel Serrano (IECCS) y el autor. Actuación de La Comparsa La Jharana (primer premio del Concurso de Agrupaciones de Carnaval de Madrid). La Cantina del Ateneo de Madrid. Calle Santa Catalina\, 10.
URL:https://ateneodemadrid.com/evento/presentacion-del-libro-la-generacion-del-mollete-cronica-de-un-nuevo-andalucismo/
CATEGORIES:Presentación del libro
ATTACH;FMTTYPE=image/jpeg:https://ateneodemadrid.com/wp-content/uploads/2022/03/17-03-2022-Cantina-1-scaled.jpg
END:VEVENT
BEGIN:VEVENT
DTSTART;TZID=Europe/Madrid:20220316T193000
DTEND;TZID=Europe/Madrid:20220316T210000
DTSTAMP:20260420T144121
CREATED:20220303T144656Z
LAST-MODIFIED:20220315T142200Z
UID:6017-1647459000-1647464400@ateneodemadrid.com
SUMMARY:Presentación de libro Al Este de Babel. Sujeto\, verdad y lenguaje en la era de los algoritmos
DESCRIPTION:Intervienen: Antonio Asencio\, autor del libro; José Andrés Torres-Mora\, presidente de Acción Cultural Española. Restaurante de la Cantina (planta baja).
URL:https://ateneodemadrid.com/evento/presentacion-de-libro-al-este-de-babel-sujeto-verdad-y-lenguaje-en-la-era-de-los-algoritmos/
CATEGORIES:Presentación del libro
ATTACH;FMTTYPE=image/jpeg:https://ateneodemadrid.com/wp-content/uploads/2022/03/16-3-2022-Babel-2-scaled.jpg
END:VEVENT
END:VCALENDAR