BEGIN:VCALENDAR
VERSION:2.0
PRODID:-//Ateneo Madrid - ECPv6.15.15//NONSGML v1.0//EN
CALSCALE:GREGORIAN
METHOD:PUBLISH
X-WR-CALNAME:Ateneo Madrid
X-ORIGINAL-URL:https://ateneodemadrid.com
X-WR-CALDESC:Eventos para Ateneo Madrid
REFRESH-INTERVAL;VALUE=DURATION:PT1H
X-Robots-Tag:noindex
X-PUBLISHED-TTL:PT1H
BEGIN:VTIMEZONE
TZID:Europe/Madrid
BEGIN:DAYLIGHT
TZOFFSETFROM:+0100
TZOFFSETTO:+0200
TZNAME:CEST
DTSTART:20220327T010000
END:DAYLIGHT
BEGIN:STANDARD
TZOFFSETFROM:+0200
TZOFFSETTO:+0100
TZNAME:CET
DTSTART:20221030T010000
END:STANDARD
BEGIN:DAYLIGHT
TZOFFSETFROM:+0100
TZOFFSETTO:+0200
TZNAME:CEST
DTSTART:20230326T010000
END:DAYLIGHT
BEGIN:STANDARD
TZOFFSETFROM:+0200
TZOFFSETTO:+0100
TZNAME:CET
DTSTART:20231029T010000
END:STANDARD
BEGIN:DAYLIGHT
TZOFFSETFROM:+0100
TZOFFSETTO:+0200
TZNAME:CEST
DTSTART:20240331T010000
END:DAYLIGHT
BEGIN:STANDARD
TZOFFSETFROM:+0200
TZOFFSETTO:+0100
TZNAME:CET
DTSTART:20241027T010000
END:STANDARD
END:VTIMEZONE
BEGIN:VEVENT
DTSTART;TZID=Europe/Madrid:20230503T093000
DTEND;TZID=Europe/Madrid:20230505T150000
DTSTAMP:20260424T230338
CREATED:20230410T082634Z
LAST-MODIFIED:20230424T135438Z
UID:20441-1683106200-1683298800@ateneodemadrid.com
SUMMARY:Jornadas de fotografía. La fotografía en el siglo XIX
DESCRIPTION:Entrada libre hasta completar aforo. \n\n\n\n\n\n\n\nVer programa (abrir). La Sección de Fotografía del Ateneo ha querido contribuir en esta conmemoración del Bicentenario con estas Jornadas de Fotografía\, dedicadas a la fotografía del S.XIX\, en las que se abordarán diferentes cuestiones por los mejores expertos. \n\n\n\nSi pinchas en el cartel de la derecha te dará acceso a descargarte el programa de las Jornadas.
URL:https://ateneodemadrid.com/evento/jornadas-de-fotografia-la-fotografia-en-el-siglo-xix/
CATEGORIES:Bicentenario Ateneo de Madrid,Jornada
ATTACH;FMTTYPE=image/jpeg:https://ateneodemadrid.com/wp-content/uploads/2023/04/3-5-2023.Fotografia-4.jpg
END:VEVENT
BEGIN:VEVENT
DTSTART;TZID=Europe/Madrid:20230504T190000
DTEND;TZID=Europe/Madrid:20230504T190000
DTSTAMP:20260424T230338
CREATED:20230424T144742Z
LAST-MODIFIED:20230424T144831Z
UID:20988-1683226800-1683226800@ateneodemadrid.com
SUMMARY:Presentación del libro El último gudari
DESCRIPTION:Sección de Ciencias Históricas. Intervienen: José María Nacarino\, autor; Aránzazu Sumalla\, editora de Penguin Random House; Carlos H. Vázquez\, periodista y guionista. Presenta y modera: Juana Sánchez- Gey. Sala Pérez Galdós. 19h.
URL:https://ateneodemadrid.com/evento/presentacion-del-libro-el-ultimo-gudari/
CATEGORIES:Presentación del libro
ATTACH;FMTTYPE=image/jpeg:https://ateneodemadrid.com/wp-content/uploads/2023/04/4-5-2023-Historicas.jpg
END:VEVENT
BEGIN:VEVENT
DTSTART;TZID=Europe/Madrid:20230504T193000
DTEND;TZID=Europe/Madrid:20230504T193000
DTSTAMP:20260424T230338
CREATED:20230424T144255Z
LAST-MODIFIED:20230424T144256Z
UID:20983-1683228600-1683228600@ateneodemadrid.com
SUMMARY:Ciclo de Música y Economía. La economía del belcanto: Rossini y sus contemporáneos
DESCRIPTION:Secciones de Ciencias Económicas y de Música. Interviene: Miguel Ángel Galindo y María Teresa Méndez. Modera: Francisco Cabrillo. Sala Larra. 19:30h.
URL:https://ateneodemadrid.com/evento/ciclo-de-musica-y-economia-la-economia-del-belcanto-rossini-y-sus-contemporaneos/
CATEGORIES:Ciclo
ATTACH;FMTTYPE=image/jpeg:https://ateneodemadrid.com/wp-content/uploads/2023/04/4-5-2023-Economicas.jpg
END:VEVENT
BEGIN:VEVENT
DTSTART;TZID=Europe/Madrid:20230505T133000
DTEND;TZID=Europe/Madrid:20230505T133000
DTSTAMP:20260424T230338
CREATED:20230424T141812Z
LAST-MODIFIED:20230503T094129Z
UID:20969-1683293400-1683293400@ateneodemadrid.com
SUMMARY:La Caña del Ateneo de Mahou. Cómicas y cambio social
DESCRIPTION:Con Ana Morgade\, Asaari Bibang\, Paula Púa\, Sara Escudero. Modera: Rebeca Marín\, periodista y comunicadora. Cátedra Mayor. 13:30h.
URL:https://ateneodemadrid.com/evento/la-cana-del-ateneo-de-mahou-comicas-y-cambio-social/
CATEGORIES:La Caña del Ateneo
ATTACH;FMTTYPE=image/jpeg:https://ateneodemadrid.com/wp-content/uploads/2023/04/5-5-2023-Cana-4.jpg
END:VEVENT
BEGIN:VEVENT
DTSTART;TZID=Europe/Madrid:20230505T190000
DTEND;TZID=Europe/Madrid:20230505T190000
DTSTAMP:20260424T230338
CREATED:20230420T150833Z
LAST-MODIFIED:20230504T133816Z
UID:20876-1683313200-1683313200@ateneodemadrid.com
SUMMARY:El franquismo contra la masonería femenina
DESCRIPTION:Intervienen: María José Turrión\, autora del libro\, exdirectora del Centro Documental de la Memoria Histórica de Salamanca; Pedro Álvarez Lázaro\, catedrático Historia Universidad de Comillas; Matilde Eiroa\, profesora Universidad  Carlos III de Madrid. Modera: Rosa Martínez\, profesora jubilada de Historia Contemporánea de la UNED. Sala Ramón y Cajal. 19h.
URL:https://ateneodemadrid.com/evento/el-franquismo-contra-la-masoneria-en-espana/
CATEGORIES:Presentación del libro
ATTACH;FMTTYPE=image/jpeg:https://ateneodemadrid.com/wp-content/uploads/2023/04/5-5-2023-Masoneria-2.jpg
END:VEVENT
BEGIN:VEVENT
DTSTART;TZID=Europe/Madrid:20230505T190000
DTEND;TZID=Europe/Madrid:20230505T190000
DTSTAMP:20260424T230338
CREATED:20230420T151846Z
LAST-MODIFIED:20230420T151847Z
UID:20879-1683313200-1683313200@ateneodemadrid.com
SUMMARY:Camerata de cuerdas
DESCRIPTION:Programa: Elgar Serenata | Weber Andante Rondó Hungarese | Tchaikovsky Serenata en Do. Cátedra Mayor. 19h.
URL:https://ateneodemadrid.com/evento/camerata-de-cuerdas/
CATEGORIES:Concierto
ATTACH;FMTTYPE=image/jpeg:https://ateneodemadrid.com/wp-content/uploads/2023/04/5-5-2023-Musical-Arts.jpg
END:VEVENT
BEGIN:VEVENT
DTSTART;TZID=Europe/Madrid:20230505T190000
DTEND;TZID=Europe/Madrid:20230505T190000
DTSTAMP:20260424T230338
CREATED:20230424T145109Z
LAST-MODIFIED:20230424T145110Z
UID:20991-1683313200-1683313200@ateneodemadrid.com
SUMMARY:La monarquia visigoda a través de sus rituales y símbolos
DESCRIPTION:Agrupación Especial Aire Libre y Agrupación Clara Campoamor. Interviene: Isabel Pérez de Tudela\, doctora en Historia. Presenta: Mercedes Sánchez Valera. Modera: Cristóbal Figueras. Sala Larra. 19h.
URL:https://ateneodemadrid.com/evento/la-monarquia-visigoda-a-traves-de-sus-rituales-y-simbolos/
CATEGORIES:Conferencias
ATTACH;FMTTYPE=image/jpeg:https://ateneodemadrid.com/wp-content/uploads/2023/04/5-5-2023-Aire-Libre.jpg
END:VEVENT
BEGIN:VEVENT
DTSTART;TZID=Europe/Madrid:20230505T193000
DTEND;TZID=Europe/Madrid:20230505T193000
DTSTAMP:20260424T230338
CREATED:20230424T150544Z
LAST-MODIFIED:20230424T150545Z
UID:20994-1683315000-1683315000@ateneodemadrid.com
SUMMARY:Presentación del libro Pasiones entre dos mundos
DESCRIPTION:Interviene: Francisco Chacón Marín\, autor del libro. Presenta: Fernando Jiménez. Sala Pérez Galdós. 19:30h.
URL:https://ateneodemadrid.com/evento/presentacion-del-libro-pasiones-entre-dos-mundos/
CATEGORIES:Presentación del libro
ATTACH;FMTTYPE=image/jpeg:https://ateneodemadrid.com/wp-content/uploads/2023/04/5-5-2023-Pasiones-.jpg
END:VEVENT
BEGIN:VEVENT
DTSTART;TZID=Europe/Madrid:20230506T110000
DTEND;TZID=Europe/Madrid:20230506T110000
DTSTAMP:20260424T230338
CREATED:20230504T114129Z
LAST-MODIFIED:20230504T114130Z
UID:21507-1683370800-1683370800@ateneodemadrid.com
SUMMARY:Moods Azahara\, conversaciones que unen
DESCRIPTION:Interviene: Mohamed El Amrani\, presidente de la Asociación Azahara. Sala Pérez Galdós. 11h.
URL:https://ateneodemadrid.com/evento/moods-azahara-conversaciones-que-unen/
CATEGORIES:Conferencias
ATTACH;FMTTYPE=image/jpeg:https://ateneodemadrid.com/wp-content/uploads/2023/05/6-5-2023-Geografica.jpg
END:VEVENT
BEGIN:VEVENT
DTSTART;TZID=Europe/Madrid:20230506T190000
DTEND;TZID=Europe/Madrid:20230506T190000
DTSTAMP:20260424T230338
CREATED:20230419T114746Z
LAST-MODIFIED:20230426T153120Z
UID:20800-1683399600-1683399600@ateneodemadrid.com
SUMMARY:Candlelight. Lo mejor de Luis Miguel
DESCRIPTION:Entradas: Público general | Socios [Click en la imagen para acceder a la venta de entradas]
URL:https://ateneodemadrid.com/evento/candlelight-lo-mejor-de-luis-miguel-7/
CATEGORIES:Candlelight
ATTACH;FMTTYPE=image/jpeg:https://ateneodemadrid.com/wp-content/uploads/2023/04/6-5-2023-Luis-Miguel-1.jpg
END:VEVENT
BEGIN:VEVENT
DTSTART;TZID=Europe/Madrid:20230507T123000
DTEND;TZID=Europe/Madrid:20230507T123000
DTSTAMP:20260424T230338
CREATED:20230427T142032Z
LAST-MODIFIED:20230427T142033Z
UID:21260-1683462600-1683462600@ateneodemadrid.com
SUMMARY:Las matinés del Ateneo. No todo va a ser… Matiné impuesta a Javier Krahe. Andreas Prittwitz y Luis Fernández 
DESCRIPTION:Venta de entradas en: www.andreaspritt.com. Público general 12€ | Socios 50% dto. consultar código en el Área del Socio. (Click en la imagen para acceder a la venta de entradas) \n\n\n\n\n\n\n\nAndreas Prittwitz \, clarinete y voz\, y Luis Fernández\, piano\, hacen su particular  homenaje a J. Krahe\, recuperando sus canciones y presentaciones en un concierto emocionante e único\, dada la cercanía de Andreas al homenajeado. Sala La Cacharrería. 12:30h.
URL:https://ateneodemadrid.com/evento/las-matines-del-ateneo-no-todo-va-a-ser-matine-impuesta-a-javier-krahe-andreas-prittwitz-y-luis-fernandez-2/
CATEGORIES:Concierto
ATTACH;FMTTYPE=image/jpeg:https://ateneodemadrid.com/wp-content/uploads/2023/04/7-3-2023-Matine.jpg
END:VEVENT
BEGIN:VEVENT
DTSTART;TZID=Europe/Madrid:20230507T190000
DTEND;TZID=Europe/Madrid:20230507T190000
DTSTAMP:20260424T230338
CREATED:20230419T132235Z
LAST-MODIFIED:20230426T152743Z
UID:20804-1683486000-1683486000@ateneodemadrid.com
SUMMARY:Candlelight. Tributo a Nina Simone y más leyendas del jazz
DESCRIPTION:Venta de entradas: Público general | Socios[Click en la imagen para acceder a la venta de entradas]
URL:https://ateneodemadrid.com/evento/candlelight-tributo-a-nina-simone-y-mas-leyendas-del-jazz/
CATEGORIES:Candlelight
ATTACH;FMTTYPE=image/jpeg:https://ateneodemadrid.com/wp-content/uploads/2023/04/7-5-2023-Nina-Simone.jpg
END:VEVENT
BEGIN:VEVENT
DTSTART;TZID=Europe/Madrid:20230508T100000
DTEND;TZID=Europe/Madrid:20230508T100000
DTSTAMP:20260424T230338
CREATED:20230427T133007Z
LAST-MODIFIED:20230427T171206Z
UID:21247-1683540000-1683540000@ateneodemadrid.com
SUMMARY:Exposición colectiva de pintura "Perspectivas"
DESCRIPTION:Del 8 al 22 mayo 2023. Horario de Visitas: lunes a domingo de 10 a 14h. y de 17 a 21h. Sala Anselma. Entrada libre. \n\n\n\nInformación:Se exponen más de sesenta obras de dibujo y pintura. Las obras son de temática\, técnicas y estilos diversos\, aunque predomina el estilo Realista. Exponen artistas que han estudiado en  la Academia de Pintura Cristian Avilés. La exposición “Perspectivas”\, hace referencia a los diferentes puntos de vista de cada artista\, y como esos puntos de vista conforman una realidad diferente para cada uno. La  realidad global de toda la exposición\, es un conjunto de todas esas perspectivas individuales\, que son diversas en contenidos\, temáticas\, técnicas y estilos.  \n\n\n\nEn esta exposición se exhiben diferentes técnicas\, como: pinturas al óleo\, acrílicas\, acuarelas\, pastel\, dibujos a grafito\, a carboncillo\, etc. Predominan las obras figurativas\, de estilo Realista contemporáneo y también aparecen algunas composiciones abstractas. La mezcla de técnicas\, estilos\, así como la heterogeneidad de los motivos representados\,  acentúa el significado del título y nos enseña el modo en que cada artista representa su “realidad”\, desde su propia perspectiva\, o punto de vista. \n\n\n\nTodos los artistas que integran esta exposición\, en algún momento han estudiado en la Academia de Pintura de Cristian Avilés\, que es el punto común desde el que parten cada una de las pinceladas y trazos\, como si esta academia fuese el punto de fuga en el que convergen todas estas “perspectivas”.  \n\n\n\n“La perspectiva implica una subjetivización del conocimiento y la realidad. Es nuestro punto de vista individual. Es también la visión del mundo y de la vida que cada uno de nosotros tiene y representa”. José Ortega y Gasset
URL:https://ateneodemadrid.com/evento/exposicion-colectiva-de-pintura-perspectivas/
CATEGORIES:Exposición
ATTACH;FMTTYPE=image/jpeg:https://ateneodemadrid.com/wp-content/uploads/2023/04/8-5-2023-Cristian-Aviles-2.jpg
END:VEVENT
BEGIN:VEVENT
DTSTART;TZID=Europe/Madrid:20230508T120000
DTEND;TZID=Europe/Madrid:20230508T120000
DTSTAMP:20260424T230338
CREATED:20230504T130756Z
LAST-MODIFIED:20230505T074106Z
UID:21510-1683547200-1683547200@ateneodemadrid.com
SUMMARY:Descubrimiento del retrato de Elena Fortún
DESCRIPTION:Intervienen: Carmen Mansilla\, autora del retrato; Christina Linares\, Inmaculada\, García Carretero y María Jesús Fraga. Presenta: Inés de Alvear. 12h.
URL:https://ateneodemadrid.com/evento/descubrimiento-del-retrato-de-elena-fortun/
CATEGORIES:Presentación del retrato
ATTACH;FMTTYPE=image/jpeg:https://ateneodemadrid.com/wp-content/uploads/2023/05/8-5-2022-Elena-Fortun-1.jpg
END:VEVENT
BEGIN:VEVENT
DTSTART;TZID=Europe/Madrid:20230508T190000
DTEND;TZID=Europe/Madrid:20230508T190000
DTSTAMP:20260424T230338
CREATED:20230424T154326Z
LAST-MODIFIED:20230503T141117Z
UID:21010-1683572400-1683572400@ateneodemadrid.com
SUMMARY:Presentación del libro Legislar contra ley. Análisis de la mal llamada Ley Maestra
DESCRIPTION:Sección de Educación. Intervienen: José Luis Pazos\, autor del libro; Isabel Blanco\, representante de la Asociación Creando Ciudadanía (responsable de la edición del libro); Aurora Ruiz\, autora del prólogo. Presenta y modera:José Carlos Tobalina.
URL:https://ateneodemadrid.com/evento/presentacion-del-libro-legislar-contra-ley-analisis-de-la-mal-llamada-ley-maestra/
CATEGORIES:Presentación del libro
ATTACH;FMTTYPE=image/jpeg:https://ateneodemadrid.com/wp-content/uploads/2023/04/8-5-2023-Educacion-1.jpg
END:VEVENT
BEGIN:VEVENT
DTSTART;TZID=Europe/Madrid:20230508T193000
DTEND;TZID=Europe/Madrid:20230508T193000
DTSTAMP:20260424T230338
CREATED:20230424T152033Z
LAST-MODIFIED:20230424T152034Z
UID:21001-1683574200-1683574200@ateneodemadrid.com
SUMMARY:Ciclo La voz recuperada. Francisco Brines: el otoño de un poeta
DESCRIPTION:Sección de Literatura. Intervienen:  Javier Lostalé\, poeta; José Luis Gómez Toré\, poeta; Pedro García Cueto\, escritor\, autor del libro Francisco Brines: el otoño de un poeta. Recital poético a cargo de: Francisco José Martínez Morán\, ganador del I Premio de Poesía Francisco Brines. Palabras preliminares: Àngels Gregori Parra. Preside y modera:José Manuel Lucía Megías. Sala Pérez Galdós. 19:30h.
URL:https://ateneodemadrid.com/evento/ciclo-la-voz-recuperada-francisco-brines-el-otono-de-un-poeta/
CATEGORIES:Ciclo
ATTACH;FMTTYPE=image/jpeg:https://ateneodemadrid.com/wp-content/uploads/2023/04/8-5-2023-Literatura.jpg
END:VEVENT
BEGIN:VEVENT
DTSTART;TZID=Europe/Madrid:20230508T193000
DTEND;TZID=Europe/Madrid:20230508T193000
DTSTAMP:20260424T230338
CREATED:20230424T152340Z
LAST-MODIFIED:20230503T101830Z
UID:21004-1683574200-1683574200@ateneodemadrid.com
SUMMARY:8 de mayo: Día de la Victoria frente al fascismo en Europa La contribución española republicana
DESCRIPTION:Agrupación Ateneísta Juan Negrín. Intervienen: Mirta Núñez Díaz- Balart\, Pedro López López\, Carlos Hermida Revillas\, Rosario Rodero Salamanca\, Vicente González Vicente\, Laureano Recio\,Pedro Garcia Bilbao. Presenta: Miguel Pastrana. Cátedra Mayor. 19:30h.
URL:https://ateneodemadrid.com/evento/8-de-mayo-dia-de-la-victoria-frente-al-fascismo-en-europa-la-contribucion-espanola-republicana/
CATEGORIES:Mesa redonda
ATTACH;FMTTYPE=image/jpeg:https://ateneodemadrid.com/wp-content/uploads/2023/04/8-5-2023-Negrin-1.jpg
END:VEVENT
BEGIN:VEVENT
DTSTART;TZID=Europe/Madrid:20230508T193000
DTEND;TZID=Europe/Madrid:20230508T193000
DTSTAMP:20260424T230338
CREATED:20230424T152642Z
LAST-MODIFIED:20230424T152643Z
UID:21007-1683574200-1683574200@ateneodemadrid.com
SUMMARY:Ciclo de Música y Economía. Mendelssohn y Schumann: vidas paralelas\, delirios liberales
DESCRIPTION:Secciones de Ciencias Económicas y de Música. Interviene: Estrella Trincado. Modera: Francisco Cabrillo. Sala Ramón y Cajal. 19:30h.
URL:https://ateneodemadrid.com/evento/ciclo-de-musica-y-economia-mendelssohn-y-schumann-vidas-paralelas-delirios-liberales/
CATEGORIES:Ciclo
ATTACH;FMTTYPE=image/jpeg:https://ateneodemadrid.com/wp-content/uploads/2023/04/8-5-2023-Economicas.jpg
END:VEVENT
BEGIN:VEVENT
DTSTART;TZID=Europe/Madrid:20230508T200000
DTEND;TZID=Europe/Madrid:20230508T200000
DTSTAMP:20260424T230338
CREATED:20230503T082932Z
LAST-MODIFIED:20230503T100159Z
UID:21382-1683576000-1683576000@ateneodemadrid.com
SUMMARY:Vida\, obra y andanzas de Bartolomé de las Casas (Novela: La Española)
DESCRIPTION:Agrupación de Geografía\, exploración y viajes Alvar Núñez Cabeza de Vaca y con la colaboración de Escritores con la Historia y el Patocinio de Carburos Médica y Sapio Live España. Ciclo “Un viaje por la historia a través de la novela”. Intervienen: Antonio Pérez Henares\, escritor y periodista. Presentan: Pío Cabanillas y Manuel Marchena. Sala Úbeda. 19h.
URL:https://ateneodemadrid.com/evento/la-mujer-en-la-reconquista-novela-la-duena-vida-obra-y-andanzas-de-bartolome-de-las-casas-novela-la-espanola/
CATEGORIES:Ciclo
ATTACH;FMTTYPE=image/jpeg:https://ateneodemadrid.com/wp-content/uploads/2023/05/8-5-2023-Geografica-2.jpg
END:VEVENT
BEGIN:VEVENT
DTSTART;TZID=Europe/Madrid:20230509T170000
DTEND;TZID=Europe/Madrid:20230509T170000
DTSTAMP:20260424T230338
CREATED:20230425T083812Z
LAST-MODIFIED:20230503T102604Z
UID:21025-1683651600-1683651600@ateneodemadrid.com
SUMMARY:AMASAP. Presente y futuro de la Salud Pública en la Comunidad de Madrid
DESCRIPTION:Sección de Ciencias de la Salud. Portavoces de los partidos políticos con representación en la Asamblea de MadridPresenta y modera: Francisco Pérez de la Valle\, periodista RNE. Sala Larra. 19h.
URL:https://ateneodemadrid.com/evento/amasap-presente-y-futuro-de-la-salud-publica-en-la-comunidad-de-madrid/
CATEGORIES:Conferencias,Mesa redonda
ATTACH;FMTTYPE=image/jpeg:https://ateneodemadrid.com/wp-content/uploads/2023/04/9-5-2023-Salud-1.jpg
END:VEVENT
BEGIN:VEVENT
DTSTART;TZID=Europe/Madrid:20230509T190000
DTEND;TZID=Europe/Madrid:20230509T190000
DTSTAMP:20260424T230338
CREATED:20230424T155305Z
LAST-MODIFIED:20230427T133756Z
UID:21016-1683658800-1683658800@ateneodemadrid.com
SUMMARY:50º Aniversario de "Las ciudades invisibles" de Italo Calvino (1972-2022).  Centenario del nacimiento de Italo Calvino (1923-2023) Una retórica onírica
DESCRIPTION:Intervienen: Félix Martín Franco\, poeta\, activista cultural y creador de la obra audiovisual: “Las ciudades invisibles de Italo Calvino”\, Pedro Cano\, artista plástico\, académico y creador de la colección de acuarelas sobre Las Ciudades Invisibles\, por encargo de la familia de Calvino\, Giorgio Guglielmi\, vicedirector del Colegio Scuola Statale Italiana de Madrid\, Elisabetta Bagli\, poeta y escritora italiana\, y Brunilde Román Ibáñez\, poeta y danzarina étnica. Poetas y/o escritores participantes: Antonino Nieto Rodríguez\, Sagrario Núñez Molina\, Rosa María Berlanga\, Antonio Ruiz Pascual\, Antonia Barradas González\, y Eduardo García-Rojo\, entre otros. Participa: Turismo Poético\, colectivo de poetas y artistas. Presentan: María Victoria Caro Bernal y Octavio Uña Juárez. Cátedra Mayor. 19:30h.
URL:https://ateneodemadrid.com/evento/50o-aniversario-de-las-ciudades-invisibles-de-italo-calvino-1972-2022-centenario-del-nacimiento-de-italo-calvino-1923-2023-una-retorica-onirica/
CATEGORIES:Homenaje
ATTACH;FMTTYPE=image/jpeg:https://ateneodemadrid.com/wp-content/uploads/2023/04/9-5-2023-Italo-Calvino-3.jpg
END:VEVENT
BEGIN:VEVENT
DTSTART;TZID=Europe/Madrid:20230509T193000
DTEND;TZID=Europe/Madrid:20230509T193000
DTSTAMP:20260424T230338
CREATED:20230424T155022Z
LAST-MODIFIED:20230504T150836Z
UID:21013-1683660600-1683660600@ateneodemadrid.com
SUMMARY:Ciclo de coloquios del Ateneo. La actualización del Derecho electoral español
DESCRIPTION:Sección de Ciencias Jurídicas y Políticas. Intervienen: Óscar Alzaga\, catedrático emérito de Derecho constitucional y diputado constituyente; Carlos Fernández Esquer Profesor de Derecho constitucional. UNEDç; María Garrote\, profesora de Derecho constitucional. Universidad Complutense; Cristina Monge\, socióloga y politóloga\, presidenta de +Democracia. Modera: J. Ignacio Prendes. Sala Ramón y Cajal. 19:30h.
URL:https://ateneodemadrid.com/evento/ciclo-de-coloquios-del-ateneo-la-actualizacion-del-derecho-electoral-espanol/
CATEGORIES:Ciclo
ATTACH;FMTTYPE=image/jpeg:https://ateneodemadrid.com/wp-content/uploads/2023/04/9-5-2023-Juridicas-.jpg
END:VEVENT
BEGIN:VEVENT
DTSTART;TZID=Europe/Madrid:20230509T193000
DTEND;TZID=Europe/Madrid:20230509T193000
DTSTAMP:20260424T230338
CREATED:20230425T100749Z
LAST-MODIFIED:20230425T100750Z
UID:21035-1683660600-1683660600@ateneodemadrid.com
SUMMARY:Genio y locura en la Pintura
DESCRIPTION:Agrupación Estudios pictóricos y sociales Francisco de Goya. Interviene: María Teresa Pedraza Guzmán de Lázaro\, enfermera\, pintora\, ensayista\, directora y presentadora de programas de radio. Introduce: José Rayos Menargue\, doctor en Historia del Arte. Preside y presenta: Francisco Forte. Sala Larra. 19:30h.
URL:https://ateneodemadrid.com/evento/genio-y-locura-en-la-pintura/
CATEGORIES:Conferencias
ATTACH;FMTTYPE=image/jpeg:https://ateneodemadrid.com/wp-content/uploads/2023/04/9-5-2023-Goya.jpg
END:VEVENT
BEGIN:VEVENT
DTSTART;TZID=Europe/Madrid:20230510T170000
DTEND;TZID=Europe/Madrid:20230510T170000
DTSTAMP:20260424T230338
CREATED:20230425T101308Z
LAST-MODIFIED:20230509T091736Z
UID:21038-1683738000-1683738000@ateneodemadrid.com
SUMMARY:La voz recuperada. Otra manera de leer la literatura: Los manuscritos de Petrus Hispanus en la Biblioteca Nacional de España
DESCRIPTION:Sección de Literatura y el Máster en Estudios Medievales de la UCM. Intervienen: José Meirinhos\, catedrático de la Universidade do Porto; Aurelio Vargas Díaz-Toledo\, profesor de la Universidad Complutense de Madrid y Coordinador del Máster en Estudios Medievales de la UCM. Preside: José Manuel Lucía Megías. Sala Úbeda. 17h.
URL:https://ateneodemadrid.com/evento/la-voz-recuperada-otra-manera-de-leer-la-literatura-los-manuscritos-de-petrus-hispanus-en-la-biblioteca-nacional-de-espana/
CATEGORIES:Ciclo
ATTACH;FMTTYPE=image/jpeg:https://ateneodemadrid.com/wp-content/uploads/2023/04/10-5-2023-Literatura-1.jpg
END:VEVENT
BEGIN:VEVENT
DTSTART;TZID=Europe/Madrid:20230510T190000
DTEND;TZID=Europe/Madrid:20230510T190000
DTSTAMP:20260424T230338
CREATED:20230426T081656Z
LAST-MODIFIED:20230428T121757Z
UID:21133-1683745200-1683745200@ateneodemadrid.com
SUMMARY:Presentación del libro Las Guerras Carlistas y los Marqueses de Vasldespina
DESCRIPTION:Sección de Pensamiento Marginal y Sección de Ciencia y Cultura Militar. Interviene: Jorge Garris Mozota\, teniente coronel del Ejército y autor del libro. Preside: Pedro López. Presenta: Javier María Pérez-Roldán y Suanzes-Carpegna. Sala Larra. 19h.
URL:https://ateneodemadrid.com/evento/presentacion-del-libro-las-guerras-carlistas-y-los-marqueses-de-vasldespina/
CATEGORIES:Presentación del libro
ATTACH;FMTTYPE=image/jpeg:https://ateneodemadrid.com/wp-content/uploads/2023/04/10-5-2023-Carlistas-1.jpg
END:VEVENT
BEGIN:VEVENT
DTSTART;TZID=Europe/Madrid:20230510T190000
DTEND;TZID=Europe/Madrid:20230510T190000
DTSTAMP:20260424T230338
CREATED:20230426T093751Z
LAST-MODIFIED:20230426T093752Z
UID:21139-1683745200-1683745200@ateneodemadrid.com
SUMMARY:Ciclo Hegel. La realización de lo humano en Hegel (eticidad\, arte y religión)
DESCRIPTION:Sección de Filosofía. Interviene: Ángel González\, Fundación Xavier Zubiri. Presenta: Juan Rodríguez Hoppichler Sala Pérez Galdós.19h.
URL:https://ateneodemadrid.com/evento/ciclo-hegel-la-realizacion-de-lo-humano-en-hegel-eticidad-arte-y-religion/
CATEGORIES:Ciclo
ATTACH;FMTTYPE=image/jpeg:https://ateneodemadrid.com/wp-content/uploads/2023/04/10-5-2023-Filosofia.jpg
END:VEVENT
BEGIN:VEVENT
DTSTART;TZID=Europe/Madrid:20230510T193000
DTEND;TZID=Europe/Madrid:20230510T193000
DTSTAMP:20260424T230338
CREATED:20230425T105943Z
LAST-MODIFIED:20230425T105944Z
UID:21041-1683747000-1683747000@ateneodemadrid.com
SUMMARY:La U. M. D. Militares contra la dictadura de Franco
DESCRIPTION:Sección de Ciencias Históricas. Intervienen: Fernando Reinlein\, teniente coronel (R)\, presidente del Foro Milicia y Democracia; José Ignacio Domínguez\, teniente coronel (R)\, FMD; Julio Rodríguez\, general\, exJEMAD. Presenta y modera: José Rayos. Sala Ramón y Cajal. 19:30h.
URL:https://ateneodemadrid.com/evento/la-u-m-d-militares-contra-la-dictadura-de-franco/
CATEGORIES:Conferencias
ATTACH;FMTTYPE=image/jpeg:https://ateneodemadrid.com/wp-content/uploads/2023/04/10-5-2023-Historicas.jpg
END:VEVENT
BEGIN:VEVENT
DTSTART;TZID=Europe/Madrid:20230510T193000
DTEND;TZID=Europe/Madrid:20230510T193000
DTSTAMP:20260424T230338
CREATED:20230426T083932Z
LAST-MODIFIED:20230426T084224Z
UID:21136-1683747000-1683747000@ateneodemadrid.com
SUMMARY:Presentación de la Academia Digital de las Letras
DESCRIPTION:Agrupación Agustín Argüelles. Intervienen: Marifé Santiago Bolaños\, escritora y filósofa; Silvia Eva Agosto Riera\, profesora de la Facultad de Educación de la UCM; José Vicente García-Casarrubios; especialista en Marketing Digitale Inteligencia Artificial. Presenta y modera: Juan Lópe. Introduce: José Antonio García Regueiro. Sala Úbeda. 19:30h.
URL:https://ateneodemadrid.com/evento/presentacion-de-la-academia-digital-de-las-letras/
CATEGORIES:Mesa redonda
ATTACH;FMTTYPE=image/jpeg:https://ateneodemadrid.com/wp-content/uploads/2023/04/10-5-2023-Academia-digital.jpg
END:VEVENT
BEGIN:VEVENT
DTSTART;TZID=Europe/Madrid:20230511T190000
DTEND;TZID=Europe/Madrid:20230511T190000
DTSTAMP:20260424T230338
CREATED:20230425T131002Z
LAST-MODIFIED:20230425T131002Z
UID:21049-1683831600-1683831600@ateneodemadrid.com
SUMMARY:Ciclo: La voz recuperada El Quijote\, símbolo universal
DESCRIPTION:Sección de Literatura. Intervienen: María Luisa Rodríguez Antón\, escritora y autora del libro El Quijote\, símbolo  universal; María del Carmen Muñoz Miguel\, catedrática de Lengua y Literatura. Preside y modera: José Manuel Lucía Megías. Sala Ramón y Cajal. 19h.
URL:https://ateneodemadrid.com/evento/ciclo-la-voz-recuperada-el-quijote-simbolo-universal/
CATEGORIES:Ciclo
ATTACH;FMTTYPE=image/jpeg:https://ateneodemadrid.com/wp-content/uploads/2023/04/11-5-2023-Literatura.jpg
END:VEVENT
BEGIN:VEVENT
DTSTART;TZID=Europe/Madrid:20230511T190000
DTEND;TZID=Europe/Madrid:20230511T190000
DTSTAMP:20260424T230338
CREATED:20230427T112449Z
LAST-MODIFIED:20230427T112450Z
UID:21236-1683831600-1683831600@ateneodemadrid.com
SUMMARY:Madrid Nuevo Norte: política de vivienda y calidad urbana
DESCRIPTION:Sección de Arquitectura. Intervienen: Iñaki Carnicero\, secretario General de Agenda Urbana\, Vivienda y Arquitectura; Miguel Hernández\, director Estrategia y Desarrollo Corporativo Crea Madrid Nuevo Norte. Modera: Carolina González Vives. Sala Pérez Galdós. 19h.
URL:https://ateneodemadrid.com/evento/madrid-nuevo-norte-politica-de-vivienda-y-calidad-urbana/
CATEGORIES:Mesa redonda
ATTACH;FMTTYPE=image/jpeg:https://ateneodemadrid.com/wp-content/uploads/2023/04/11-5-2023-Arquitectura.jpg
END:VEVENT
END:VCALENDAR