BEGIN:VCALENDAR
VERSION:2.0
PRODID:-//Ateneo Madrid - ECPv6.15.15//NONSGML v1.0//EN
CALSCALE:GREGORIAN
METHOD:PUBLISH
X-ORIGINAL-URL:https://ateneodemadrid.com
X-WR-CALDESC:Eventos para Ateneo Madrid
REFRESH-INTERVAL;VALUE=DURATION:PT1H
X-Robots-Tag:noindex
X-PUBLISHED-TTL:PT1H
BEGIN:VTIMEZONE
TZID:Europe/Madrid
BEGIN:DAYLIGHT
TZOFFSETFROM:+0100
TZOFFSETTO:+0200
TZNAME:CEST
DTSTART:20220327T010000
END:DAYLIGHT
BEGIN:STANDARD
TZOFFSETFROM:+0200
TZOFFSETTO:+0100
TZNAME:CET
DTSTART:20221030T010000
END:STANDARD
BEGIN:DAYLIGHT
TZOFFSETFROM:+0100
TZOFFSETTO:+0200
TZNAME:CEST
DTSTART:20230326T010000
END:DAYLIGHT
BEGIN:STANDARD
TZOFFSETFROM:+0200
TZOFFSETTO:+0100
TZNAME:CET
DTSTART:20231029T010000
END:STANDARD
BEGIN:DAYLIGHT
TZOFFSETFROM:+0100
TZOFFSETTO:+0200
TZNAME:CEST
DTSTART:20240331T010000
END:DAYLIGHT
BEGIN:STANDARD
TZOFFSETFROM:+0200
TZOFFSETTO:+0100
TZNAME:CET
DTSTART:20241027T010000
END:STANDARD
END:VTIMEZONE
BEGIN:VEVENT
DTSTART;TZID=Europe/Madrid:20230201T110000
DTEND;TZID=Europe/Madrid:20230308T200000
DTSTAMP:20260423T175835
CREATED:20230126T092003Z
LAST-MODIFIED:20230127T085303Z
UID:17988-1675249200-1678305600@ateneodemadrid.com
SUMMARY:Primera exposición de Lucas Arruda en España "Assum Preto"
DESCRIPTION:Fundación Sandretto Re Rebaudengo Madrid. Comisariada por Hans Ulrich Obrist. Del 1 de febrero al 8 de marzo de 2023. Biblioteca del Ateneo de Madrid. Entrada libre hasta completar el aforo.                                                                                                                                                                                            
URL:https://ateneodemadrid.com/evento/primera-exposicion-de-lucas-arruda-en-espana-assum-preto/
CATEGORIES:Exposición
ATTACH;FMTTYPE=image/jpeg:https://ateneodemadrid.com/wp-content/uploads/2023/01/1-1-2023-Lucas-Arruda.jpg
END:VEVENT
BEGIN:VEVENT
DTSTART;TZID=Europe/Madrid:20230306T190000
DTEND;TZID=Europe/Madrid:20230306T190000
DTSTAMP:20260423T175835
CREATED:20230227T122838Z
LAST-MODIFIED:20230303T120815Z
UID:18837-1678129200-1678129200@ateneodemadrid.com
SUMMARY:La importancia del concepto de la Hybris en nuestra época
DESCRIPTION:Secciones de Mitos\, Religiones y Humanidades\, de Pensamiento Marginal y de Filosofía. Interviene: Chryssa Georganta\, directora de escena y profesora de teatro griego antiguo. Presenta: Ana Maestro. Modera: Carlos Mendoza. 19h. Sala Larra.
URL:https://ateneodemadrid.com/evento/18837/
CATEGORIES:Conferencias
ATTACH;FMTTYPE=image/jpeg:https://ateneodemadrid.com/wp-content/uploads/2023/02/6-3-2022-Mitos-1.jpg
END:VEVENT
BEGIN:VEVENT
DTSTART;TZID=Europe/Madrid:20230306T190000
DTEND;TZID=Europe/Madrid:20230306T190000
DTSTAMP:20260423T175835
CREATED:20230227T145510Z
LAST-MODIFIED:20230303T120901Z
UID:18857-1678129200-1678129200@ateneodemadrid.com
SUMMARY:Presentación del libro " La coeducación secuestrada
DESCRIPTION:Sección de Ciencias Jurídicas y Políticas y Agrupación Agustín Argüelles. Intervienen: Silvia Carrasco\, Ana Hidalgo Urtiaga. Introduce: José Antonio García Regueiro. Presenta y modera: Juan López. Sala Ramón y Cajal. 19h.
URL:https://ateneodemadrid.com/evento/presentacion-del-libro-la-coeducacion-secuestrada/
ATTACH;FMTTYPE=image/jpeg:https://ateneodemadrid.com/wp-content/uploads/2023/02/6-3-2022-Juridicas-2.jpg
END:VEVENT
BEGIN:VEVENT
DTSTART;TZID=Europe/Madrid:20230306T190000
DTEND;TZID=Europe/Madrid:20230306T190000
DTSTAMP:20260423T175835
CREATED:20230228T084758Z
LAST-MODIFIED:20230307T084329Z
UID:18879-1678129200-1678129200@ateneodemadrid.com
SUMMARY:CANCELADO. Sobre oratorio. Un elogio a Quintiliano
DESCRIPTION:Sección de Filosofía. Interviene: Silvia Rincón. Presenta: Juan Rodríguez Hoppichler. Salón Ciudad de Úbeda. 19h.
URL:https://ateneodemadrid.com/evento/sobre-oratorio-un-elogio-a-quintiliano/
CATEGORIES:Conferencias
ATTACH;FMTTYPE=image/jpeg:https://ateneodemadrid.com/wp-content/uploads/2023/02/6-3-2023-Filosofia.jpg
END:VEVENT
BEGIN:VEVENT
DTSTART;TZID=Europe/Madrid:20230306T193000
DTEND;TZID=Europe/Madrid:20230306T193000
DTSTAMP:20260423T175835
CREATED:20230227T144038Z
LAST-MODIFIED:20230227T144038Z
UID:18846-1678131000-1678131000@ateneodemadrid.com
SUMMARY:Ciclo “La voz recuperada” Homenaje a Luz Pozo Garza en su centenario.
DESCRIPTION:Sección de Literatura y Agrupación de Estudios Gallegos con la colaboración del Centro de Estudios Gallegos. UCM.  Intervienen: Olivia Rodríguez\, profesora de la Universidade da Coruña; Carmen Mejía\, catedrática de la UCM y Directora del Centro de Estudos Galegos. Recital poético a cargo de: Clara García\, Pepa Nieto\, Manuel Pereira Valcárcel\, Marifé Santiago Bolaños. Modera: Miguel Losada. Sala Pérez Galdós. 19:30h.
URL:https://ateneodemadrid.com/evento/ciclo-la-voz-recuperada-homenaje-a-luz-pozo-garza-en-su-centenario/
CATEGORIES:Homenaje
ATTACH;FMTTYPE=image/jpeg:https://ateneodemadrid.com/wp-content/uploads/2023/02/6-3-2022-Literatura.jpg
END:VEVENT
BEGIN:VEVENT
DTSTART;TZID=Europe/Madrid:20230307T170000
DTEND;TZID=Europe/Madrid:20230307T170000
DTSTAMP:20260423T175835
CREATED:20230227T145931Z
LAST-MODIFIED:20230404T100830Z
UID:18861-1678208400-1678208400@ateneodemadrid.com
SUMMARY:Mujeres líderes en la política
DESCRIPTION:Aforo completo \n\n\n\n\n\n\n\nFEDEPE. Intervienen: Carmen Calvo\, diputada nacional del PSOE; Ana Pastor\, vicepresidenta segunda del Congreso de los Diputados; Patricia Guasp\, portavoz de Ciudadanos en el Congreso de los Diputados;  Ana Oramas\, diputada de Coalición Canaria; Rocío Monasterio\, portavoz del Grupo Parlamentario Vox en la Asamblea de Madrid. Presenta: Francisca García Vizcaíno\, vicepresidenta y secretaria general de FEDEPE. Modera: Elsa González\, periodista. Sala La Cacharrería. 17h.  \n\n\n\n\nhttps://youtu.be/_UbbFr4zfok
URL:https://ateneodemadrid.com/evento/mujeres-lideres-en-la-politica/
CATEGORIES:Mesa redonda,Semana de la mujer
ATTACH;FMTTYPE=image/jpeg:https://ateneodemadrid.com/wp-content/uploads/2023/02/7-3-2023-Mujeres-politica-5.jpg
END:VEVENT
BEGIN:VEVENT
DTSTART;TZID=Europe/Madrid:20230307T190000
DTEND;TZID=Europe/Madrid:20230307T190000
DTSTAMP:20260423T175835
CREATED:20230227T150304Z
LAST-MODIFIED:20230227T150304Z
UID:18865-1678215600-1678215600@ateneodemadrid.com
SUMMARY:Presentación del libro Etudios sobre literatura africana y afroamericana en español
DESCRIPTION:Sección Africanista. Interviene: Gloria Nistal Rosique\, autora del libro. Presentan: Rosemary Clark\, profesora de Cambridge University\, traductora y especialista en literaturas africanas. Barbara Fraticelli\, directora del Grupo de Investigación Voces Africanas (GIVA) de la UCM. Modera: Basilio Rodríguez Cañada. Sala Ramón y Cajal. 19h.
URL:https://ateneodemadrid.com/evento/presentacion-del-libro-etudios-sobre-literatura-africana-y-afroamericana-en-espanol/
CATEGORIES:Presentación del libro
ATTACH;FMTTYPE=image/jpeg:https://ateneodemadrid.com/wp-content/uploads/2023/02/7-3-2022-Africanista.jpg
END:VEVENT
BEGIN:VEVENT
DTSTART;TZID=Europe/Madrid:20230307T190000
DTEND;TZID=Europe/Madrid:20230307T190000
DTSTAMP:20260423T175835
CREATED:20230307T092927Z
LAST-MODIFIED:20230307T092935Z
UID:19281-1678215600-1678215600@ateneodemadrid.com
SUMMARY:En torno a la presencia de Pino Ojeda en la capital española
DESCRIPTION:Intervienen: Domingo Doreste González\, nieto y presidente de la Fundación Canaria Pino Ojeda; Carmensa de la Hoz\, coordinadora de la muestra; Amada Elsa López Rodríguez y Blanca Ángeles Hernández Quintana\, patronas de la Fundación Canaria Pino Ojeda. Sala Pérez Galdós. 19h.
URL:https://ateneodemadrid.com/evento/en-torno-a-la-presencia-de-pino-ojeda-en-la-capital-espanola/
CATEGORIES:Mesa redonda
ATTACH;FMTTYPE=image/jpeg:https://ateneodemadrid.com/wp-content/uploads/2023/03/7-3-2022-Pino-Ojeda-scaled.jpg
END:VEVENT
BEGIN:VEVENT
DTSTART;TZID=Europe/Madrid:20230307T193000
DTEND;TZID=Europe/Madrid:20230307T193000
DTSTAMP:20260423T175835
CREATED:20230301T090537Z
LAST-MODIFIED:20230303T094858Z
UID:19029-1678217400-1678217400@ateneodemadrid.com
SUMMARY:Con licencia para espiar
DESCRIPTION:Agrupación Cabeza de Vaca y con la colaboración de Escritores con la Historia. Ciclo “Un viaje por la historia a través de la novela”. Intervienen: Carmen Posadas\, escritora; Antonio Pérez Henares\, escritor y periodista. Presenta: Pedro López Arriba. Salón Ciudad de Úbeda. 19:30h.
URL:https://ateneodemadrid.com/evento/las-espias-al-servicio-de-su-majestad-catolica-con-licencia-para-espiar/
CATEGORIES:Ciclo
ATTACH;FMTTYPE=image/jpeg:https://ateneodemadrid.com/wp-content/uploads/2023/03/7-3-2023-Geografica-4.jpg
END:VEVENT
BEGIN:VEVENT
DTSTART;TZID=Europe/Madrid:20230308T133000
DTEND;TZID=Europe/Madrid:20230308T133000
DTSTAMP:20260423T175836
CREATED:20230228T121032Z
LAST-MODIFIED:20230302T083506Z
UID:18893-1678282200-1678282200@ateneodemadrid.com
SUMMARY:Homenaje del Club de las 25 a Emilia Pardo Bazán\, una ateneísta pionera
DESCRIPTION:El Club de las 25. Interviene: Anna Caballé\, escritora\, crítica literaria y experta en biografías de las mujeres. Presenta: Cristina Almeida\, presidenta de El Club de las 25. Sala Ramón y Cajal. 13:30h.
URL:https://ateneodemadrid.com/evento/homenaje-del-club-de-las-25-a-emilia-pardo-bazan-una-ateneista-pionera/
CATEGORIES:Homenaje
ATTACH;FMTTYPE=image/jpeg:https://ateneodemadrid.com/wp-content/uploads/2023/02/8-3-2022-Club25-1.jpg
END:VEVENT
BEGIN:VEVENT
DTSTART;TZID=Europe/Madrid:20230308T190000
DTEND;TZID=Europe/Madrid:20230308T190000
DTSTAMP:20260423T175836
CREATED:20230228T121651Z
LAST-MODIFIED:20230303T104224Z
UID:18896-1678302000-1678302000@ateneodemadrid.com
SUMMARY:Ciclo: 50 años de relaciones España-China. Una mirada hacia el futuro
DESCRIPTION:Agrupación para el estudio de las Culturas Orientales Gaman. Intervienen: Georgina Higueras\, periodista especializada en Asia\, autora de varios libros sobre China; Estela Li\, presidenta de China Club Spain; Javier Serra\, ex consejero comercial en la RP China\,director general de Cooperación Institucional y Coordinación de ICEX; Lisa Wang\, socia fundadora de Link the World Advisers. Modera: Laura González Escallada\, presidenta de NI HAO CONECTA. Presentan: Enrique Fanjul y Brígida de Fez Algarra. Salón Ciudad de Úbeda. 19h. Sinopsis.
URL:https://ateneodemadrid.com/evento/ciclo-50-anos-de-relaciones-espana-china-una-mirada-hacia-el-futuro/
CATEGORIES:Mesa redonda
ATTACH;FMTTYPE=image/jpeg:https://ateneodemadrid.com/wp-content/uploads/2023/02/8-3-2022-Gaman.jpg
END:VEVENT
BEGIN:VEVENT
DTSTART;TZID=Europe/Madrid:20230310T130000
DTEND;TZID=Europe/Madrid:20230310T130000
DTSTAMP:20260423T175836
CREATED:20230302T133517Z
LAST-MODIFIED:20230313T123204Z
UID:19143-1678453200-1678453200@ateneodemadrid.com
SUMMARY:Exposición Arte\, historia y miniatura: Ferrer Dalmau en 3D
DESCRIPTION:Organiza: Subdirección General de Bellas Artes\, Dirección General de Promoción Cultural\, Consejería de Cultura\, Turismo y Deportes. Comunidad de Madrid. Colabora: Asociación de Modelistas Alabarda y Fundación Ferrer Dalmau. Sala Anselma. Del 10 marzo al 9 abril 2023. De martes a domingo: de 10:30 a 14:30 y de 16:00 a 20:30 hComisario: José M. Guerrero Acosta. Nota de prensa. \n\n\n\n\nEduardo Sánchez y José Antonio Vicario. Lancero de Jerez\, Batalla de Bailén 1808\n\n\n\nRafael Cebrián y José Manuel Flores. Coronel Diego de León\, comandante de la Guardia Real\n\n\n\nVicente_López_Portaña
URL:https://ateneodemadrid.com/evento/exposicion-arte-historia-y-miniatura-ferrer-dalmau-en-3d/
CATEGORIES:Exposición
ATTACH;FMTTYPE=image/jpeg:https://ateneodemadrid.com/wp-content/uploads/2023/03/10-3-2023-Dalmau.jpg
END:VEVENT
BEGIN:VEVENT
DTSTART;TZID=Europe/Madrid:20230310T133000
DTEND;TZID=Europe/Madrid:20230310T133000
DTSTAMP:20260423T175836
CREATED:20230301T085217Z
LAST-MODIFIED:20230307T122149Z
UID:19015-1678455000-1678455000@ateneodemadrid.com
SUMMARY:La Caña del Ateneo de Mahou. La igualdad no puede esperar
DESCRIPTION:En esta mesa tomaremos como punto de partida la referencia a Antonio Guterres que dice…. que la mujer tendrá que esperar 286 años para conseguir la igualdad…..Esto nos lleva a hablar de :1.- Cuánto hemos avanzado y ahora ¿qué?2.- Desafíos  internacionales y nacionales de la mujer3.- ¿Qué está ocurriendo para que el avance sea lento?4.- ¿Qué acciones podemos impulsar?Modera: Begoña Gómez\, directora de la Cátedra Extraordinaria de Transformación Social Competitiva de la UCM. Intervienen: Charo Izquierdo\, periodista y escritora. Cristina Gallach\, Comisionada PERTE Nueva Economía de la Lengua; Ewa Wildlak\, Presidenta del Comité Nacional ONU mujeres España; Pepita Marín\, CEO de We are Knitters. Entrada libre hasta completar el aforo. Sala La Cacharrería. 13:30h.
URL:https://ateneodemadrid.com/evento/la-cana-del-ateneo-de-mahou-la-igualdad-no-puede-esperar/
CATEGORIES:La Caña del Ateneo
ATTACH;FMTTYPE=image/jpeg:https://ateneodemadrid.com/wp-content/uploads/2023/03/10-3-2023-Cana-3-scaled.jpg
END:VEVENT
BEGIN:VEVENT
DTSTART;TZID=Europe/Madrid:20230310T180000
DTEND;TZID=Europe/Madrid:20230311T190000
DTSTAMP:20260423T175836
CREATED:20230228T122257Z
LAST-MODIFIED:20230228T122257Z
UID:18901-1678471200-1678561200@ateneodemadrid.com
SUMMARY:Jornadas en torno a la figura de Mario Lodi. Mario Lodi\, per sempre
DESCRIPTION:Sección de Educación. Intervienen: Francesco Tonucci\, psicopedagogo y dibujante; Juri Meda\, profesor Univ. de Macerata; Juan Mata\, pedagogo Univ. de Granada; Sara Ramos\, profesora Univ. Complutense de Madrid. Talleres a cargo de: Eva Aguado\, Federico Martín Nebras\, Juan Mata y Virginia Pardo. Actuación: Banda Rodari del SLIJ con Filastroques de Gianni Rodari. Presenta: Federico Martín Nebras. Moderan:José Carlos Tobalina y Ana Llorente y Emilia AbarcaSala Ramón y Cajal. 18h.
URL:https://ateneodemadrid.com/evento/jornadas-en-torno-a-la-figura-de-mario-lodi-mario-lodi-per-sempre/
CATEGORIES:Jornada
ATTACH;FMTTYPE=image/jpeg:https://ateneodemadrid.com/wp-content/uploads/2023/02/10y11-3-2023-Educacion.jpg
END:VEVENT
BEGIN:VEVENT
DTSTART;TZID=Europe/Madrid:20230310T190000
DTEND;TZID=Europe/Madrid:20230310T190000
DTSTAMP:20260423T175836
CREATED:20230228T122656Z
LAST-MODIFIED:20230310T083856Z
UID:18904-1678474800-1678474800@ateneodemadrid.com
SUMMARY:La masonería en el feminismo y en la sociedad
DESCRIPTION:Agrupación Ágora. Intervienen: Lola Moreno Burgos\, escritora. Maestra Masona de la GranLogia Simbólica Española; Manuel Según Alonso\, historiador. Maestro Masón del Gran Oriente de Francia; Luz Modroño García\,psicóloga. Maestra Masona del Derecho Humano; Pablo Bahillo Redondo\, médico. Maestro Masón de la Gran Logia General de España; Claudia Delgado Zamora\, ingeniera. Maestra Masona del Gran Oriente de Francia; Francisco Javier del Barrio Guitián\, graduado social. Maestro Masón de la Gran Logia Simbólica Española. Presentan: María Ángeles Siemens y Maura Ocaña Alfaro. Sala Pérez Galdós. 19h.
URL:https://ateneodemadrid.com/evento/la-masoneria-en-el-feminismo-y-en-la-sociedad/
CATEGORIES:Mesa redonda
ATTACH;FMTTYPE=image/jpeg:https://ateneodemadrid.com/wp-content/uploads/2023/02/10-3-2023-Agora-1-1-scaled.jpg
END:VEVENT
BEGIN:VEVENT
DTSTART;TZID=Europe/Madrid:20230311T123000
DTEND;TZID=Europe/Madrid:20230311T123000
DTSTAMP:20260423T175836
CREATED:20230228T123004Z
LAST-MODIFIED:20230228T123005Z
UID:18907-1678537800-1678537800@ateneodemadrid.com
SUMMARY:Homenaje a Ernesto García Camarero
DESCRIPTION:Intervienen: los socios exbibliotecarios: José Siles\, Carlos Mendoza\, Miguel Losada\, Daniel Pacheco. Presenta:Pedro López Arriba. Salón Ciudad de Úbeda. 12:30h.
URL:https://ateneodemadrid.com/evento/homenaje-a-ernesto-garcia-camarero/
CATEGORIES:Homenaje
ATTACH;FMTTYPE=image/jpeg:https://ateneodemadrid.com/wp-content/uploads/2023/02/11-3-2023-Camarero.jpg
END:VEVENT
BEGIN:VEVENT
DTSTART;TZID=Europe/Madrid:20230311T193000
DTEND;TZID=Europe/Madrid:20230311T193000
DTSTAMP:20260423T175836
CREATED:20230228T124638Z
LAST-MODIFIED:20230228T155930Z
UID:18910-1678563000-1678563000@ateneodemadrid.com
SUMMARY:Guadalajara\, marzo de 1937:victoria republicana frente al fascismo
DESCRIPTION:Agrupación Ateneísta Juan Negrín. Intervienen: Luis Salvador Fernández Contreras\, presidente de la asociación MesaMemoria Histórica Distrito de Latina; Fernando Ángel Barredo de Valenzuela Álvarez\, presidente de la Fundación Democracia Activa; Pedro García Bilbao\, presidente del Foro por la Memoria de Guadalajara. Presentan: Miguel Pastrana de Almeida y María del RosarioRodero Salamanca. Salón Ciudad de Úbeda. 19:30h.
URL:https://ateneodemadrid.com/evento/guadalajara-marzo-de-1937victoria-republicana-frente-al-fascismo/
CATEGORIES:Mesa redonda
ATTACH;FMTTYPE=image/jpeg:https://ateneodemadrid.com/wp-content/uploads/2023/02/11-3-2023-Negrin-1.jpg
END:VEVENT
BEGIN:VEVENT
DTSTART;TZID=Europe/Madrid:20230312T123000
DTEND;TZID=Europe/Madrid:20230312T123000
DTSTAMP:20260423T175836
CREATED:20230223T150623Z
LAST-MODIFIED:20230223T150624Z
UID:18785-1678624200-1678624200@ateneodemadrid.com
SUMMARY:Las matinés del Ateneo. No todo va a ser… Matiné impuesta a Javier Krahe. Andreas Prittwitz y Luis Fernández
DESCRIPTION:Venta de entradas en: www.andreaspritt.com. Público general 12€ | Socios 50% dto. consultar código en el Área del Socio \n\n\n\n\n\n\n\nNo todo va a ser… Matiné impuesta a Javier Krahe. Andreas Prittwitz y Luis Fernández.
URL:https://ateneodemadrid.com/evento/las-matines-del-ateneo-no-todo-va-a-ser-matine-impuesta-a-javier-krahe-andreas-prittwitz-y-luis-fernandez/
CATEGORIES:Las Matinés del Ateneo
ATTACH;FMTTYPE=image/jpeg:https://ateneodemadrid.com/wp-content/uploads/2023/02/12-3-2023-Matine.jpg
END:VEVENT
BEGIN:VEVENT
DTSTART;TZID=Europe/Madrid:20230313T120000
DTEND;TZID=Europe/Madrid:20230313T120000
DTSTAMP:20260423T175836
CREATED:20230308T105520Z
LAST-MODIFIED:20230308T125445Z
UID:19357-1678708800-1678708800@ateneodemadrid.com
SUMMARY:La Pedagogía “Conocimiento en crisis. Las ideologías en la educación actual"
DESCRIPTION:Sección de Pensamiento Marginal. Interviene: Doctora Inger Enkvist\, catedrática de la Universidad de Lund\, Suecia. Preside: Piedad Aguirre Gil de Biedma. Modera: Alicia Delibes Liniers\, exviceconsejera de  Educación de la CAM. Sala Pérez Galdós. 13h.
URL:https://ateneodemadrid.com/evento/la-pedagogia-conocimiento-en-crisis-las-ideologias-en-la-educacion-actual-con-ejemplos-de-suecia/
CATEGORIES:Conferencias
ATTACH;FMTTYPE=image/jpeg:https://ateneodemadrid.com/wp-content/uploads/2023/03/13-3-2023-Pensamiento-Marginal-3-scaled.jpg
END:VEVENT
BEGIN:VEVENT
DTSTART;TZID=Europe/Madrid:20230313T190000
DTEND;TZID=Europe/Madrid:20230313T190000
DTSTAMP:20260423T175836
CREATED:20230228T125414Z
LAST-MODIFIED:20230228T125415Z
UID:18913-1678734000-1678734000@ateneodemadrid.com
SUMMARY:Presentación del libro De Coronado a Oñate. Buscando el paso a China
DESCRIPTION:Agrupación de Geografía\, exploración y viajes Alvar Núñez Cabeza de Vaca. Intervienen: José Antonio Crespo-Francés\, autor del libro. Coronel de Infantería (R) y doctor en Artes y Humanidades; Juan Van-Halen\, escritor\, historiador\, periodista y político; Miguel Ángel López de la Asunción\, licenciado en Filología Inglesa. Asesor histórico de la Fundación Blas de Lezo y de la Federación Española de Asociaciones de Historia (FEAH). Presenta: Carlos Fernández-Corugedo. Sala Ramón y Cajal. 19h.
URL:https://ateneodemadrid.com/evento/presentacion-del-libro-de-coronado-a-onate-buscando-el-paso-a-china/
CATEGORIES:Presentación del libro
ATTACH;FMTTYPE=image/jpeg:https://ateneodemadrid.com/wp-content/uploads/2023/02/13-3-2023-libro.jpg
END:VEVENT
BEGIN:VEVENT
DTSTART;TZID=Europe/Madrid:20230313T190000
DTEND;TZID=Europe/Madrid:20230313T190000
DTSTAMP:20260423T175836
CREATED:20230228T131334Z
LAST-MODIFIED:20230228T131335Z
UID:18916-1678734000-1678734000@ateneodemadrid.com
SUMMARY:Actualidad y futuro del Tribunal de Cuentas
DESCRIPTION:Sección de Ciencias Jurídicas y Políticas y Agrupación Ateneísta Agustín Argüelles. Intervienen: Enriqueta Chicano\, presidenta del Tribunal de Cuentas; Dolores Genaro\, presidenta Sección de Fiscalización del Tribunal de Cuentas; Rebeca Laliga\, presidenta Sección de Enjuiciamiento del Tribunal de Cuentas; Carlos Antero Maza\, subdirector de Tecnologías del Tribunal de Cuentas; José Antonio Pajares\, ex secretario general del Tribunal de Cuentas; José Antonio García Regueiro\, letrado del Tribunal de Cuentas. Presenta y modera: Carmen Villanueva\, técnico auditor del Tribunal de Cuentas. Salón Ciudad de Úbeda. 19h.
URL:https://ateneodemadrid.com/evento/actualidad-y-futuro-del-tribunal-de-cuentas/
CATEGORIES:Mesa redonda
ATTACH;FMTTYPE=image/jpeg:https://ateneodemadrid.com/wp-content/uploads/2023/02/13-3-2023-Juridicas.jpg
END:VEVENT
BEGIN:VEVENT
DTSTART;TZID=Europe/Madrid:20230313T190000
DTEND;TZID=Europe/Madrid:20230313T190000
DTSTAMP:20260423T175836
CREATED:20230228T133543Z
LAST-MODIFIED:20230310T104932Z
UID:18919-1678734000-1678734000@ateneodemadrid.com
SUMMARY:Profesorado de Musical Arts Madrid. Recital de música de cámara
DESCRIPTION:
URL:https://ateneodemadrid.com/evento/profesorado-de-musical-arts-madrid-recital-de-musica-de-camara/
CATEGORIES:Concierto
ATTACH;FMTTYPE=image/jpeg:https://ateneodemadrid.com/wp-content/uploads/2023/02/13-3-2023-Musical-Arts-2.jpg
END:VEVENT
BEGIN:VEVENT
DTSTART;TZID=Europe/Madrid:20230313T190000
DTEND;TZID=Europe/Madrid:20230313T190000
DTSTAMP:20260423T175836
CREATED:20230228T141054Z
LAST-MODIFIED:20230228T141054Z
UID:18930-1678734000-1678734000@ateneodemadrid.com
SUMMARY:Insisto aunque sea difícil: Origen de las funciones ejecutivas en el primer año de vida
DESCRIPTION:Sección de Psicología. Ponente: Cintia Rodríguez\, catedrática de Psicología Evolutiva\, Grupo de Investigación DETEDUCA\, UAM. Intervienen: María Núñez\, investigadora Beatriz Galindo Senior; Gonzalo Flecha\, cooperativa Grupo Escuela. Modera: Chema Tomás. Sala Pérez Galdós. 19h.
URL:https://ateneodemadrid.com/evento/insisto-aunque-sea-dificil-origen-de-las-funciones-ejecutivas-en-el-primer-ano-de-vida/
CATEGORIES:Conferencias
ATTACH;FMTTYPE=image/jpeg:https://ateneodemadrid.com/wp-content/uploads/2023/02/13-3-2023-Psicologia.jpg
END:VEVENT
BEGIN:VEVENT
DTSTART;TZID=Europe/Madrid:20230314T190000
DTEND;TZID=Europe/Madrid:20230314T190000
DTSTAMP:20260423T175836
CREATED:20230309T083705Z
LAST-MODIFIED:20230314T104359Z
UID:19379-1678820400-1678820400@ateneodemadrid.com
SUMMARY:La Transición Española: Tres historias del olvido
DESCRIPTION:Agrupación Café Universal. Intervienen: Pablo Mayoral\,  Javier Almazán\, Manuel Ruiz\, víctimas y familiares de víctimas de la Transición. Modera: María Costales. Sala La Cacharrería. 19h.
URL:https://ateneodemadrid.com/evento/la-transicion-espanola-tres-historias-del-olvido/
CATEGORIES:Mesa redonda
ATTACH;FMTTYPE=image/jpeg:https://ateneodemadrid.com/wp-content/uploads/2023/03/14-3-2023-Cafe-Universal-1.jpg
END:VEVENT
BEGIN:VEVENT
DTSTART;TZID=Europe/Madrid:20230314T200000
DTEND;TZID=Europe/Madrid:20230314T200000
DTSTAMP:20260423T175836
CREATED:20230228T143508Z
LAST-MODIFIED:20230228T143509Z
UID:18937-1678824000-1678824000@ateneodemadrid.com
SUMMARY:Fractales de una guerra en primavera\, de Olga Amarís\, en el Ateneo: un lugar para tejer paz
DESCRIPTION:Sección de Literatura. Intervienen: Olga Amarís\, filósofa y escritora\, autora de Fractales de una guerra en primavera; Miguel ÁngelMoratinos\, alto representante de Naciones Unidas para la Alianza de Civilizaciones. Recital a cargo de los actores: Leticia Pascual\,Balbino Lacosta Nicolás y Áurea Martinez (directora). Modera: Marifé Santiago Bolaños. Preside: José Manuel Lucía Megías. Sala Pérez Galdós. 20h.
URL:https://ateneodemadrid.com/evento/fractales-de-una-guerra-en-primavera-de-olga-amaris-en-el-ateneo-un-lugar-para-tejer-paz-2/
CATEGORIES:Charla-coloquio
ATTACH;FMTTYPE=image/jpeg:https://ateneodemadrid.com/wp-content/uploads/2023/02/14-3-2023-Literatura.jpg
END:VEVENT
BEGIN:VEVENT
DTSTART;TZID=Europe/Madrid:20230314T203000
DTEND;TZID=Europe/Madrid:20230314T203000
DTSTAMP:20260423T175836
CREATED:20230228T141410Z
LAST-MODIFIED:20230307T122041Z
UID:18933-1678825800-1678825800@ateneodemadrid.com
SUMMARY:Presentación del libro Psicoanálisis del expresionismo de Oskar Pfister
DESCRIPTION:Sección de Pensamiento Marginal. Intervienen: Luisa Borondo\, psiquiatra y psicoanalista\, presidenta de la Asociación “Oskar Pfister”; Manuel Pérez Cornejo\, catedrático y doctor en Filosofía\, traductor de la obra. Presenta:Carlos Mendoza Bullón. Sala Ramón y Cajal. 20:30h.
URL:https://ateneodemadrid.com/evento/presentacion-del-libro-psicoanalisis-del-expresionismo-de-oskar-pfister/
CATEGORIES:Presentación del libro
ATTACH;FMTTYPE=image/jpeg:https://ateneodemadrid.com/wp-content/uploads/2023/02/14-3-2023-Pensamiento-Marginal-1-scaled.jpg
END:VEVENT
BEGIN:VEVENT
DTSTART;TZID=Europe/Madrid:20230315T170000
DTEND;TZID=Europe/Madrid:20230315T170000
DTSTAMP:20260423T175836
CREATED:20230228T150722Z
LAST-MODIFIED:20230314T112150Z
UID:18953-1678899600-1678899600@ateneodemadrid.com
SUMMARY:Los protocolos de exclusión y la mortalidad por COVID en las residencias de Madrid
DESCRIPTION:Sección Ciencias de la Salud. Ciclo Los protocolos de exclusión y la mortalidad por COVID en las residencias de Madrid. Intervienen: Victoria Zunzunegui\, catedrática de Epidemiologia\, Univ. Montreal (hon.); Fernando García\, médico epidemiólogo; Carmen Miquel\, miembro de Amnistía Internacional. Presenta y modera: Laura Galaup. Ramón y Cajal. 17h.
URL:https://ateneodemadrid.com/evento/los-protocolos-de-exclusion-y-la-mortalidadpor-covid-en-las-residencias-de-madrid/
CATEGORIES:Ciclo
ATTACH;FMTTYPE=image/jpeg:https://ateneodemadrid.com/wp-content/uploads/2023/02/15-3-2023-salud-1.jpg
END:VEVENT
BEGIN:VEVENT
DTSTART;TZID=Europe/Madrid:20230315T190000
DTEND;TZID=Europe/Madrid:20230315T190000
DTSTAMP:20260423T175836
CREATED:20230228T144021Z
LAST-MODIFIED:20230228T144021Z
UID:18940-1678906800-1678906800@ateneodemadrid.com
SUMMARY:Presentación del libro El cerebro y la mente humana
DESCRIPTION:Sección de Ciencia y Tecnología. Intervienen: Ignacio Morgado\, Isabel Fuentes y Ricardo Urías. Sala La Cacharrería. 19h.
URL:https://ateneodemadrid.com/evento/presentacion-del-libro-el-cerebro-y-la-mente-humana/
CATEGORIES:Conferencias
ATTACH;FMTTYPE=image/jpeg:https://ateneodemadrid.com/wp-content/uploads/2023/02/15-3-2023-Ciencia-y-Tecnologia.jpg
END:VEVENT
BEGIN:VEVENT
DTSTART;TZID=Europe/Madrid:20230315T190000
DTEND;TZID=Europe/Madrid:20230315T190000
DTSTAMP:20260423T175836
CREATED:20230228T145952Z
LAST-MODIFIED:20230307T113325Z
UID:18950-1678906800-1678906800@ateneodemadrid.com
SUMMARY:La inclusión universitaria de jóvenes sin adjetivos: El Programa Promentor (Cátedra UAM-F.Prodis)
DESCRIPTION:Sección de Psicología. Intervienen: Lola Izuzquiza Gasset\, profesora e investigadora Universidad Autónoma de Madrid. Directora del Programa PROMENTOR;  Jesús Manso\, decano de la Facultad de Formación del Profesorado; Soledad Herreros de Tejada\, presidenta Fundación Prodis. Rectores UAM 2005-2022: Ángel Gabilondo\, José María Sanz y Rafael Garesse; Empresas contratantes de los egresados de PROMENTOR. Presenta: Cintia Rodríguez. Modera: Chema Tomás. Sala Ramón y Cajal. 19h.
URL:https://ateneodemadrid.com/evento/la-inclusion-universitaria-de-jovenes-sin-adjetivos-el-programa-promentor-catedra-uam-f-prodis/
CATEGORIES:Mesa redonda
ATTACH;FMTTYPE=image/jpeg:https://ateneodemadrid.com/wp-content/uploads/2023/02/15-3-2023-Psicologia.jpg
END:VEVENT
BEGIN:VEVENT
DTSTART;TZID=Europe/Madrid:20230315T193000
DTEND;TZID=Europe/Madrid:20230315T193000
DTSTAMP:20260423T175836
CREATED:20230228T144355Z
LAST-MODIFIED:20230228T144355Z
UID:18943-1678908600-1678908600@ateneodemadrid.com
SUMMARY:Presentación del libro Ingredientes ocultos
DESCRIPTION:Intervienen: María Pérez Herrero\, autora de la obra; Belén Rico\, psicoanalista\, socióloga y politóloga; Maribel Orgaz\, escritora y periodista. Presenta: Julia Martínez Fernández. Sala Larra. 19:30h.
URL:https://ateneodemadrid.com/evento/presentacion-del-libro-ingredientes-ocultos/
ATTACH;FMTTYPE=image/jpeg:https://ateneodemadrid.com/wp-content/uploads/2023/02/15-3-2023-Psicologia-libro-1.jpg
END:VEVENT
END:VCALENDAR